BEGIN:VCALENDAR
VERSION:2.0
PRODID:-//Community Calendar of Holistic Happenings - ECPv6.11.0.1//NONSGML v1.0//EN
CALSCALE:GREGORIAN
METHOD:PUBLISH
X-WR-CALNAME:Community Calendar of Holistic Happenings
X-ORIGINAL-URL:https://events.indyholistichub.com
X-WR-CALDESC:Events for Community Calendar of Holistic Happenings
REFRESH-INTERVAL;VALUE=DURATION:PT1H
X-Robots-Tag:noindex
X-PUBLISHED-TTL:PT1H
BEGIN:VTIMEZONE
TZID:America/Indiana/Indianapolis
BEGIN:DAYLIGHT
TZOFFSETFROM:-0500
TZOFFSETTO:-0400
TZNAME:EDT
DTSTART:20260308T070000
END:DAYLIGHT
BEGIN:STANDARD
TZOFFSETFROM:-0400
TZOFFSETTO:-0500
TZNAME:EST
DTSTART:20261101T060000
END:STANDARD
END:VTIMEZONE
BEGIN:VEVENT
DTSTART;TZID=America/Indiana/Indianapolis:20260421T190000
DTEND;TZID=America/Indiana/Indianapolis:20260421T200000
DTSTAMP:20260421T054231
CREATED:20190424T132723Z
LAST-MODIFIED:20260326T173147Z
UID:10001332-1776798000-1776801600@events.indyholistichub.com
SUMMARY:Evening with the Doctor
DESCRIPTION:This free\, foundational class introduces our clinic and the techniques we use to give your body the opportunity to restore its natural ability to heal. \nLearn About:\n• The Bio-Energetic Synchronization Technique: A neuro-emotional clearing technique that addresses the source of interference with your health rather than treating the symptoms.\n• The Six Essentials: Every day choices you make that determine your health and well-being.\n• Support Techniques: Steps you can take at home to live your optimal life. \nReservations are required as seating is limited. Please contact our office to reserve your place at 317-872-9300.
URL:https://events.indyholistichub.com/event/evening-with-the-doctor-7/
LOCATION:Morter HealthCenter\, 10439 Commerce Drive\, Suite 140\, Carmel\, IN\, 46032\, United States
CATEGORIES:Classes
ATTACH;FMTTYPE=image/jpeg:https://events.indyholistichub.com/wp-content/uploads/2019/04/EWD-FLYER-2020-cnl-no-photos-COVID-19-UPDATE-scaled.jpg
ORGANIZER;CN="Morter HealthCenter":MAILTO:info@morterhealthcenter.com
END:VEVENT
BEGIN:VEVENT
DTSTART;TZID=America/Indiana/Indianapolis:20260421T190000
DTEND;TZID=America/Indiana/Indianapolis:20260421T200000
DTSTAMP:20260421T054231
CREATED:20240216T172902Z
LAST-MODIFIED:20240515T181241Z
UID:10004276-1776798000-1776801600@events.indyholistichub.com
SUMMARY:Bowspring Yoga with Samantha
DESCRIPTION:Bowspring yoga is a revolutionary\, yet natural\, alignment system that celebrates and encourages the natural curves of the spine and brings forth an animal like springiness in the body. The Bowspring alignment encourages the repatterning of fascia in order to return to a state of fluid dynamism\, and opposes postural patterns that lead to imbalance. Practicing this formula will increase your strength\, mobility\, proprioception\, balance\, mental acuity\, and open up spiritual channels. \nIn this class we will spend the hour moving through poses with the throat\, belly\, and pelvic floor open: as a result\, please be advised that this class can be PROFOUNDLY engaging and opening for the physical\, mental\, emotional\, and spiritual bodies. We will end the class in a relaxing assimilation. \n**Bowspring is healing for everyone\, however this class may be too much if you are currently experiencing certain movement restrictions. If you have concerns\, please attend an Intro to Bowspring Class\, arrive to class early to chat with Samantha\, or contact Samantha directly at info@thesamanthasimpson.com
URL:https://events.indyholistichub.com/event/bowspring-yoga-with-samantha/2026-04-21/
LOCATION:The Playful Soul\, 1001 E 86th St\, Indianapolis\, Indianapolis\, Indiana\, 46240
CATEGORIES:Classes
ATTACH;FMTTYPE=image/jpeg:https://events.indyholistichub.com/wp-content/uploads/2024/02/samantha.jpg
END:VEVENT
BEGIN:VEVENT
DTSTART;TZID=America/Indiana/Indianapolis:20260421T193000
DTEND;TZID=America/Indiana/Indianapolis:20260421T203000
DTSTAMP:20260421T054231
CREATED:20250416T195535Z
LAST-MODIFIED:20250929T171436Z
UID:10009028-1776799800-1776803400@events.indyholistichub.com
SUMMARY:Public Meditation for PEACE
DESCRIPTION:Get your weekly dose of Peace Practice every Tuesday evening at Prana Play in Carmel! \nThis is not your average meditation.\nJoin us for a playful practice as we experience the power of stillness.\nWhether you are new to meditation or have been practicing for years\, ALL are welcome.\nOur goals?\nLevel 1 – Help individuals create more inner peace\nLevel 2 – Support cooperation and the civility conversation in Carmel\nLevel 3 – Bless the Earth and do our part to promote global peace \nHosted by Prana Bar each and every Tuesday from 7:30pm-8:15pm.
URL:https://events.indyholistichub.com/event/public-meditation-for-peace/2026-04-21/
LOCATION:Prana Play Carmel\, 1019 3rd Ave. SW\, Carmel\, 46032\, United States
CATEGORIES:Meetup
ATTACH;FMTTYPE=image/png:https://events.indyholistichub.com/wp-content/uploads/2025/04/Meditation-for-Peace-Postcard-4-1.png
ORGANIZER;CN="Paula Lord":MAILTO:paula@gymrootsinc.com
END:VEVENT
END:VCALENDAR