BEGIN:VCALENDAR
VERSION:2.0
PRODID:-//Community Calendar of Holistic Happenings - ECPv6.11.0.1//NONSGML v1.0//EN
CALSCALE:GREGORIAN
METHOD:PUBLISH
X-WR-CALNAME:Community Calendar of Holistic Happenings
X-ORIGINAL-URL:https://events.indyholistichub.com
X-WR-CALDESC:Events for Community Calendar of Holistic Happenings
REFRESH-INTERVAL;VALUE=DURATION:PT1H
X-Robots-Tag:noindex
X-PUBLISHED-TTL:PT1H
BEGIN:VTIMEZONE
TZID:America/Indiana/Indianapolis
BEGIN:DAYLIGHT
TZOFFSETFROM:-0500
TZOFFSETTO:-0400
TZNAME:EDT
DTSTART:20260308T070000
END:DAYLIGHT
BEGIN:STANDARD
TZOFFSETFROM:-0400
TZOFFSETTO:-0500
TZNAME:EST
DTSTART:20261101T060000
END:STANDARD
END:VTIMEZONE
BEGIN:VEVENT
DTSTART;TZID=America/Indiana/Indianapolis:20260423T190000
DTEND;TZID=America/Indiana/Indianapolis:20260423T210000
DTSTAMP:20260423T020408
CREATED:20260311T123006Z
LAST-MODIFIED:20260311T125334Z
UID:10009296-1776970800-1776978000@events.indyholistichub.com
SUMMARY:Exercise & Rest: A Conscious Self-Care Series
DESCRIPTION:Join Dr. Scott Cooper and Dr. Vicki Knapke in an engaging conversation focusing on two of the Six Essentials of Health! \n·         Explore the benefits of strength training and aerobic exercise \n·         Create and maintain a successful plan for restful and healing sleep \n·         Learn effective exercises for your heart\, nervous system\, and energy field \nThere is no charge for the class and it is held in our clinic. \nReservations are required. Please contact our office to reserve your place.
URL:https://events.indyholistichub.com/event/exercise-rest-a-conscious-self-care-series/
LOCATION:Morter HealthCenter\, 10439 Commerce Drive\, Suite 140\, Carmel\, IN\, 46032\, United States
CATEGORIES:Classes
ATTACH;FMTTYPE=image/jpeg:https://events.indyholistichub.com/wp-content/uploads/2026/03/EXERCISE-AND-REST-FLYER-2026-photos-1.jpg
ORGANIZER;CN="Morter HealthCenter":MAILTO:info@morterhealthcenter.com
END:VEVENT
END:VCALENDAR