BEGIN:VCALENDAR
VERSION:2.0
PRODID:-//Community Calendar of Holistic Happenings - ECPv6.11.0.1//NONSGML v1.0//EN
CALSCALE:GREGORIAN
METHOD:PUBLISH
X-WR-CALNAME:Community Calendar of Holistic Happenings
X-ORIGINAL-URL:https://events.indyholistichub.com
X-WR-CALDESC:Events for Community Calendar of Holistic Happenings
REFRESH-INTERVAL;VALUE=DURATION:PT1H
X-Robots-Tag:noindex
X-PUBLISHED-TTL:PT1H
BEGIN:VTIMEZONE
TZID:America/Indiana/Indianapolis
BEGIN:DAYLIGHT
TZOFFSETFROM:-0500
TZOFFSETTO:-0400
TZNAME:EDT
DTSTART:20260308T070000
END:DAYLIGHT
BEGIN:STANDARD
TZOFFSETFROM:-0400
TZOFFSETTO:-0500
TZNAME:EST
DTSTART:20261101T060000
END:STANDARD
END:VTIMEZONE
BEGIN:VEVENT
DTSTART;TZID=America/Indiana/Indianapolis:20260825T113000
DTEND;TZID=America/Indiana/Indianapolis:20260825T130000
DTSTAMP:20260421T202147
CREATED:20260220T191558Z
LAST-MODIFIED:20260220T191733Z
UID:10009267-1787657400-1787662800@events.indyholistichub.com
SUMMARY:Holistic Connection Lunch
DESCRIPTION:Connect with other holistic practitioners\, artisans\, and professionals across multiple modalities. Learn\, Grow\, Be Supported.\n\nJennifer Seffrin\, Founder of Indy Holistic Hub\, will lead us in meaningful connection time – bring your business cards and expanded hearts. You can experience:\n\nUpliftment – You are not alone. Receiving a boost of love and support impacts your energetic field. This is great check-in/reset time to be sure you are inviting in well aligned connections and clients.\nBiz ideas – Learning from each others experiences and input is a Win-Win!\nCollaborative synergies – Building genuine connections and understanding what others offer\, provides an environment for collaborations to come together.\nResource Share – Business tools\, processes\, and how-to’s to develop\, maintain and grow your business. Ask for what you are looking for.\n\nShine Your Light\, a.k.a. Share Who You Are – Tell us about you and pass around your brochures and cards.
URL:https://events.indyholistichub.com/event/holistic-connection-lunch/2026-08-25/
LOCATION:Another Broken Egg Cafe\, 5025 E 82nd St\, Indianapolis\, IN\, 46260\, United States
CATEGORIES:Holistic Hub Events
ATTACH;FMTTYPE=image/jpeg:https://events.indyholistichub.com/wp-content/uploads/2026/01/Screenshot-2026-01-16-at-1.29.06 PM.jpg
ORGANIZER;CN="Indy Holistic Hub":MAILTO:info@indyholistichub.com
END:VEVENT
BEGIN:VEVENT
DTSTART;TZID=America/Indiana/Indianapolis:20260924T113000
DTEND;TZID=America/Indiana/Indianapolis:20260924T130000
DTSTAMP:20260421T202147
CREATED:20260116T192939Z
LAST-MODIFIED:20260116T193314Z
UID:10009241-1790249400-1790254800@events.indyholistichub.com
SUMMARY:Holistic Connection Lunch
DESCRIPTION:Connect with other holistic practitioners\, artisans\, and professionals across multiple modalities. Learn\, Grow\, Be Supported.\n\nJennifer Seffrin\, Founder of Indy Holistic Hub\, will lead us in meaningful connection time – bring your business cards and expanded hearts. You can experience:\n\nUpliftment – You are not alone. Receiving a boost of love and support impacts your energetic field. This is great check-in/reset time to be sure you are inviting in well aligned connections and clients.\nBiz ideas – Learning from each others experiences and input is a Win-Win!\nCollaborative synergies – Building genuine connections and understanding what others offer\, provides an environment for collaborations to come together.\nResource Share – Business tools\, processes\, and how-to’s to develop\, maintain and grow your business. Ask for what you are looking for.\n\nShine Your Light\, a.k.a. Share Who You Are – Tell us about you and pass around your brochures and cards.
URL:https://events.indyholistichub.com/event/holisticconnectionlunchjanuary/2026-09-24/
LOCATION:Sunrise Cafe\, 11711 N Meridian St #140\, Carmel\, IN\, 46032\, United States
CATEGORIES:Holistic Hub Events
ATTACH;FMTTYPE=image/jpeg:https://events.indyholistichub.com/wp-content/uploads/2026/01/Screenshot-2026-01-16-at-1.29.06 PM.jpg
ORGANIZER;CN="Indy Holistic Hub":MAILTO:info@indyholistichub.com
END:VEVENT
BEGIN:VEVENT
DTSTART;TZID=America/Indiana/Indianapolis:20261010T120000
DTEND;TZID=America/Indiana/Indianapolis:20261010T170000
DTSTAMP:20260421T202147
CREATED:20260319T184431Z
LAST-MODIFIED:20260319T184627Z
UID:10009312-1791633600-1791651600@events.indyholistichub.com
SUMMARY:Spirit Horse Ignited: Living in Harmony with the Fire Horse\, An Equine-Guided Wellbeing Retreat presented by Balanced Soul and Epona Healing with Horses
DESCRIPTION:There are years that ask us to rest.\nAnd there are years that ask us to rise.\nInspired by the bold\, passionate energy of the Year of the Fire Horse in Chinese astrology\, this immersive afternoon retreat invites you to awaken your vitality—without burning out. \nThe Fire Horse is radiant. Independent. Courageous.\nBut untamed fire can scatter\, exhaust\, and overwhelm. \nThe Spirit Horse teaches us something deeper:\nPower without force.\nPassion with grounding.\nMovement guided by wisdom. \n\n\n\n\n\n\n\n\nAn Emmersive Experience with Horses\n\n\n\n\nThis retreat offers embodied learning through the presence of horses—powerful mirrors of energy\, awareness\, and authenticity. \nThrough guided\, hands-on equine experiences\, you will explore: \n\n\nHow your nervous system responds under pressure \n\n\nWhere you tend to overextend or hold back \n\n\nHow to lead with calm clarity \n\n\nWhat balanced confidence feels like in your body \n\n\nHow to regulate intensity without dimming your fire \n\n\nThere is no riding in this experience. \nInstead\, you will connect\, lead\, groom\, walk\, and move with the horses through structured exercises designed to deepen emotional awareness and embodied leadership. \nNo horse experience is necessary.  \nPlease note: Participants will be engaging with horses\, but will not be riding them. \nInvestment \nEarly Registration: $195 (sign-up by September 26)\nStandard Investment: $225 \nSpace is intentionally limited to preserve depth\, safety\, and personal attention.
URL:https://events.indyholistichub.com/event/spirit-horse-ignited-living-in-harmony-with-the-fire-horse-an-equine-guided-wellbeing-retreat-presented-by-balanced-soul-and-epona-healing-with-horses/
LOCATION:Epona Healing with Horses @ Hamilton Farm\, Greensbury\, IN\, 47240
CATEGORIES:Retreat
ATTACH;FMTTYPE=image/jpeg:https://events.indyholistichub.com/wp-content/uploads/2026/03/Spirit-Horse-Ignited-1.jpg
ORGANIZER;CN="Balanced Soul":MAILTO:jennifer@balancedsoulindy.com
END:VEVENT
END:VCALENDAR