BEGIN:VCALENDAR
VERSION:2.0
PRODID:-//Community Calendar of Holistic Happenings - ECPv6.11.0.1//NONSGML v1.0//EN
CALSCALE:GREGORIAN
METHOD:PUBLISH
X-WR-CALNAME:Community Calendar of Holistic Happenings
X-ORIGINAL-URL:https://events.indyholistichub.com
X-WR-CALDESC:Events for Community Calendar of Holistic Happenings
REFRESH-INTERVAL;VALUE=DURATION:PT1H
X-Robots-Tag:noindex
X-PUBLISHED-TTL:PT1H
BEGIN:VTIMEZONE
TZID:America/Indiana/Indianapolis
BEGIN:DAYLIGHT
TZOFFSETFROM:-0500
TZOFFSETTO:-0400
TZNAME:EDT
DTSTART:20260308T070000
END:DAYLIGHT
BEGIN:STANDARD
TZOFFSETFROM:-0400
TZOFFSETTO:-0500
TZNAME:EST
DTSTART:20261101T060000
END:STANDARD
END:VTIMEZONE
BEGIN:VEVENT
DTSTART;TZID=America/Indiana/Indianapolis:20260531T140000
DTEND;TZID=America/Indiana/Indianapolis:20260531T153000
DTSTAMP:20260421T171836
CREATED:20260417T141314Z
LAST-MODIFIED:20260417T141314Z
UID:10009334-1780236000-1780241400@events.indyholistichub.com
SUMMARY:Walk in Your Power: Yellow Rose Attunement
DESCRIPTION:The yellow rose carries ancestral keys to help you heal and reclaim what’s yours\, supporting you to walk more fully in your power. In this immersive yellow rose attunement\, you’ll experience a cleansing ceremony with lustral water\, a guided yellow rose attunement\, rose healing with locally grown roses\, and an anointing ceremony. \nBy Donation
URL:https://events.indyholistichub.com/event/walk-in-your-power-yellow-rose-attunement/
LOCATION:The Playful Soul\, 1001 E 86th St\, Indianapolis\, Indianapolis\, Indiana\, 46240
ATTACH;FMTTYPE=image/jpeg:https://events.indyholistichub.com/wp-content/uploads/2026/04/FLYER-Yellow-Rose-Cassie-Uhl-8.5-x-11-in.jpg
END:VEVENT
BEGIN:VEVENT
DTSTART;TZID=America/Indiana/Indianapolis:20260531T160000
DTEND;TZID=America/Indiana/Indianapolis:20260531T173000
DTSTAMP:20260421T171836
CREATED:20260417T201902Z
LAST-MODIFIED:20260417T201904Z
UID:10009337-1780243200-1780248600@events.indyholistichub.com
SUMMARY:Return to Self: A Sound Bath + Somatic Movement Experience for Women
DESCRIPTION:Ladies\, come join us for a relaxing soulful experience at the Limitless Studio in Zionsville\, IN on Sunday\, May 31st at 4pm. This class combines the soothing sounds of crystal singing bowls + gentle somatic practices to help you unwind and release tension…to open your heart…to balance your feminine + masculine energy…and to help you lead yourself through stress and challenges from a grounded state. Whether you’re looking to de-stress\, simply enjoy a moment of peace\, or embody deeper healing\, this class is perfect for all females. Don’t miss out on this unique opportunity to nourish your mind\, body\, and soul! This class is about 90 mins long and integrates mind-body healing\, conscious gentle stretching + movement\, guided meditation\, somatic stress release\, and sound healing. \nThis class is $45 for non-members and $35 for Limitless Studio members.
URL:https://events.indyholistichub.com/event/return-to-self-a-sound-bath-somatic-movement-experience-for-women/
LOCATION:The Limitless Studio\, 4629 Northwestern Dr.\, Zionsville\, IN\, 46077\, United States
CATEGORIES:Classes
ATTACH;FMTTYPE=image/jpeg:https://events.indyholistichub.com/wp-content/uploads/2026/04/Covers-2026-04-17T161810.827-1.jpg
ORGANIZER;CN="Jill Howell":MAILTO:jill@dancinginthemess.com
END:VEVENT
BEGIN:VEVENT
DTSTART;TZID=America/Indiana/Indianapolis:20260603T180000
DTEND;TZID=America/Indiana/Indianapolis:20260603T193000
DTSTAMP:20260421T171836
CREATED:20260313T200531Z
LAST-MODIFIED:20260313T200531Z
UID:10009301-1780509600-1780515000@events.indyholistichub.com
SUMMARY:The Playful Soul Book Club
DESCRIPTION:Join us at our free community book club! Dedicated to bringing spiritually curious people together for soul-stirring discussions\, The Playful Soul Book Club meets quarterly to reflect\, discuss and learn together. Elevate your consciousness and find your next great\, transformative read with this awesome community of people. \nThe book for this quarter is Trust Your Vibes by Sonia Choquette. We will connect in person on June 3 from 6pm-7:30pm for discussion. Come ready to share your thoughts or just sit and enjoy the conversation in community with one another. Always free!
URL:https://events.indyholistichub.com/event/the-playful-soul-book-club-3/
LOCATION:The Playful Soul\, 1001 E 86th St\, Indianapolis\, Indianapolis\, Indiana\, 46240
ATTACH;FMTTYPE=image/jpeg:https://events.indyholistichub.com/wp-content/uploads/2026/03/June-Book-Club-Instagram-Post.jpg
END:VEVENT
BEGIN:VEVENT
DTSTART;TZID=America/Indiana/Indianapolis:20260611T190000
DTEND;TZID=America/Indiana/Indianapolis:20260611T210000
DTSTAMP:20260421T171836
CREATED:20260420T155007Z
LAST-MODIFIED:20260420T155158Z
UID:10009339-1781204400-1781211600@events.indyholistichub.com
SUMMARY:Eating Healthy: A Conscious Self-Care Series
DESCRIPTION:Longevity  *  Immunity  *  Vitality  *  Enjoyment\nJoin Dr. Scott Cooper and Dr. Vicki Knapke in an engaging conversation focusing on one of the Six Essentials of Health! \n·       Discover eating habits that improve health and enhance life \n·       Learn how whole foods\, enzymes\, and pH contribute well-being \n·       Take home simple recipes for a jump-start on the path to vitality \nThere is no charge for the class and it is held in our clinic. \nReservations are required. Please contact our office to reserve your place.
URL:https://events.indyholistichub.com/event/eating-healthy-a-conscious-self-care-series/
LOCATION:Morter HealthCenter\, 10439 Commerce Drive\, Suite 140\, Carmel\, IN\, 46032\, United States
CATEGORIES:Classes
ATTACH;FMTTYPE=image/jpeg:https://events.indyholistichub.com/wp-content/uploads/2026/04/EATING-HEALTHY-FLYER-2026-photos.jpg
ORGANIZER;CN="Morter HealthCenter":MAILTO:info@morterhealthcenter.com
END:VEVENT
BEGIN:VEVENT
DTSTART;TZID=America/Indiana/Indianapolis:20260613T093000
DTEND;TZID=America/Indiana/Indianapolis:20260614T180000
DTSTAMP:20260421T171836
CREATED:20260107T190440Z
LAST-MODIFIED:20260107T190831Z
UID:10009220-1781343000-1781460000@events.indyholistichub.com
SUMMARY:Reiki Training
DESCRIPTION:YOU have the capacity to facilitate incredible hands-on energy healing\, and we’d love to show you how. \nReiki 1 & 2: APRIL 18-19\, 2026 \nReiki Level 3 Master/Practitioner Training: June 13-14\, 2026 | Bloomington\, IN \n9:30-6:00 each day \nAt the Tibetan Mongolian Buddhist Cultural Center\, Bloomington\, IN \nSells out every time and often far in advance. Register early to secure your spot. \nNo prior experience necessary. \n\n\n 
URL:https://events.indyholistichub.com/event/reiki-training/2026-06-13/
LOCATION:Tibetan Mongolian Buddhist Cultural Center\,\, 3655 S Snoddy Rd\, Bloomington\, IN\, United States
CATEGORIES:Holistic Hub Events
ATTACH;FMTTYPE=image/jpeg:https://events.indyholistichub.com/wp-content/uploads/2026/01/Reiki-Training-Flyer-Christine-Eartheart-and-Joy-Potential-4.jpg
ORGANIZER;CN="Joy Potential":MAILTO:christine@centerthrive.com
END:VEVENT
BEGIN:VEVENT
DTSTART;TZID=America/Indiana/Indianapolis:20260623T113000
DTEND;TZID=America/Indiana/Indianapolis:20260623T130000
DTSTAMP:20260421T171836
CREATED:20260220T191558Z
LAST-MODIFIED:20260220T191733Z
UID:10009266-1782214200-1782219600@events.indyholistichub.com
SUMMARY:Holistic Connection Lunch
DESCRIPTION:Connect with other holistic practitioners\, artisans\, and professionals across multiple modalities. Learn\, Grow\, Be Supported.\n\nJennifer Seffrin\, Founder of Indy Holistic Hub\, will lead us in meaningful connection time – bring your business cards and expanded hearts. You can experience:\n\nUpliftment – You are not alone. Receiving a boost of love and support impacts your energetic field. This is great check-in/reset time to be sure you are inviting in well aligned connections and clients.\nBiz ideas – Learning from each others experiences and input is a Win-Win!\nCollaborative synergies – Building genuine connections and understanding what others offer\, provides an environment for collaborations to come together.\nResource Share – Business tools\, processes\, and how-to’s to develop\, maintain and grow your business. Ask for what you are looking for.\n\nShine Your Light\, a.k.a. Share Who You Are – Tell us about you and pass around your brochures and cards.
URL:https://events.indyholistichub.com/event/holistic-connection-lunch/2026-06-23/
LOCATION:Another Broken Egg Cafe\, 5025 E 82nd St\, Indianapolis\, IN\, 46260\, United States
CATEGORIES:Holistic Hub Events
ATTACH;FMTTYPE=image/jpeg:https://events.indyholistichub.com/wp-content/uploads/2026/01/Screenshot-2026-01-16-at-1.29.06 PM.jpg
ORGANIZER;CN="Indy Holistic Hub":MAILTO:info@indyholistichub.com
END:VEVENT
BEGIN:VEVENT
DTSTART;TZID=America/Indiana/Indianapolis:20260627T130000
DTEND;TZID=America/Indiana/Indianapolis:20260627T150000
DTSTAMP:20260421T171836
CREATED:20260417T164124Z
LAST-MODIFIED:20260417T164124Z
UID:10009335-1782565200-1782572400@events.indyholistichub.com
SUMMARY:The Crystal Circle
DESCRIPTION:You don’t need to know anything about crystals—just come ready to feel something. \nWe’ll cover the basics (the stuff you actually want to know)\, then dive into hands-on exploration with partner play\, intuitive stone selection\, and simple chakra mapping that actually makes sense. \nYou’ll settle in for a deeply relaxing yoga nidra\, with crystals placed on your body while you rest\, followed by a little journaling to help it all land. \nThis is hands-on\, experiential\, and deeply restorative. The kind of thing you feel for days.  $65
URL:https://events.indyholistichub.com/event/the-crystal-circle/
LOCATION:The Playful Soul\, 1001 E 86th St\, Indianapolis\, Indianapolis\, Indiana\, 46240
CATEGORIES:Classes
ATTACH;FMTTYPE=image/jpeg:https://events.indyholistichub.com/wp-content/uploads/2026/04/FLYER-crystal-circle-wendy-disbro.jpg
END:VEVENT
BEGIN:VEVENT
DTSTART;TZID=America/Indiana/Indianapolis:20260627T160000
DTEND;TZID=America/Indiana/Indianapolis:20260627T170000
DTSTAMP:20260421T171836
CREATED:20250813T182958Z
LAST-MODIFIED:20251111T183745Z
UID:10009099-1782576000-1782579600@events.indyholistichub.com
SUMMARY:Sound Bath Journey
DESCRIPTION:Yoga On Purpose Harmonious Serenity: Sound Bath Journey with Tibetan and Crystal Singing Bowls \nJoin us for an immersive experience of deep relaxation and rejuvenation as we embark on a yogic sound bath journey. Guided by the gentle vibrations of Tibetan and crystal singing bowls\, this session offers a unique opportunity to harmonize the mind\, body\, and spirit. \nAs you settle into a comfortable position\, allow the soothing sounds to wash over you\, creating a sense of tranquility and inner peace. The rich tones and frequencies produced by the singing bowls resonate with the body’s energy centers\, promoting balance and alignment. \nWhether you’re seeking relief from daily pressures\, seeking clarity and insight\, or simply wishing to reconnect with your inner self\, this yogic sound bath offers a sanctuary for self-care and healing. Come experience the transformative power of sound and leave feeling refreshed\, renewed\, and harmoniously aligned. $33
URL:https://events.indyholistichub.com/event/sound-bath-journey-3/2026-06-27/
LOCATION:The Playful Soul\, 1001 E 86th St\, Indianapolis\, Indianapolis\, Indiana\, 46240
ATTACH;FMTTYPE=image/jpeg:https://events.indyholistichub.com/wp-content/uploads/2025/08/Jamie-Sound-Healing-8.5-x-11-in-2.jpg
END:VEVENT
BEGIN:VEVENT
DTSTART;TZID=America/Indiana/Indianapolis:20261010T120000
DTEND;TZID=America/Indiana/Indianapolis:20261010T170000
DTSTAMP:20260421T171836
CREATED:20260319T184431Z
LAST-MODIFIED:20260319T184627Z
UID:10009312-1791633600-1791651600@events.indyholistichub.com
SUMMARY:Spirit Horse Ignited: Living in Harmony with the Fire Horse\, An Equine-Guided Wellbeing Retreat presented by Balanced Soul and Epona Healing with Horses
DESCRIPTION:There are years that ask us to rest.\nAnd there are years that ask us to rise.\nInspired by the bold\, passionate energy of the Year of the Fire Horse in Chinese astrology\, this immersive afternoon retreat invites you to awaken your vitality—without burning out. \nThe Fire Horse is radiant. Independent. Courageous.\nBut untamed fire can scatter\, exhaust\, and overwhelm. \nThe Spirit Horse teaches us something deeper:\nPower without force.\nPassion with grounding.\nMovement guided by wisdom. \n\n\n\n\n\n\n\n\nAn Emmersive Experience with Horses\n\n\n\n\nThis retreat offers embodied learning through the presence of horses—powerful mirrors of energy\, awareness\, and authenticity. \nThrough guided\, hands-on equine experiences\, you will explore: \n\n\nHow your nervous system responds under pressure \n\n\nWhere you tend to overextend or hold back \n\n\nHow to lead with calm clarity \n\n\nWhat balanced confidence feels like in your body \n\n\nHow to regulate intensity without dimming your fire \n\n\nThere is no riding in this experience. \nInstead\, you will connect\, lead\, groom\, walk\, and move with the horses through structured exercises designed to deepen emotional awareness and embodied leadership. \nNo horse experience is necessary.  \nPlease note: Participants will be engaging with horses\, but will not be riding them. \nInvestment \nEarly Registration: $195 (sign-up by September 26)\nStandard Investment: $225 \nSpace is intentionally limited to preserve depth\, safety\, and personal attention.
URL:https://events.indyholistichub.com/event/spirit-horse-ignited-living-in-harmony-with-the-fire-horse-an-equine-guided-wellbeing-retreat-presented-by-balanced-soul-and-epona-healing-with-horses/
LOCATION:Epona Healing with Horses @ Hamilton Farm\, Greensbury\, IN\, 47240
CATEGORIES:Retreat
ATTACH;FMTTYPE=image/jpeg:https://events.indyholistichub.com/wp-content/uploads/2026/03/Spirit-Horse-Ignited-1.jpg
ORGANIZER;CN="Balanced Soul":MAILTO:jennifer@balancedsoulindy.com
END:VEVENT
END:VCALENDAR