BEGIN:VCALENDAR
VERSION:2.0
PRODID:-//Community Calendar of Holistic Happenings - ECPv6.11.0.1//NONSGML v1.0//EN
CALSCALE:GREGORIAN
METHOD:PUBLISH
X-WR-CALNAME:Community Calendar of Holistic Happenings
X-ORIGINAL-URL:https://events.indyholistichub.com
X-WR-CALDESC:Events for Community Calendar of Holistic Happenings
REFRESH-INTERVAL;VALUE=DURATION:PT1H
X-Robots-Tag:noindex
X-PUBLISHED-TTL:PT1H
BEGIN:VTIMEZONE
TZID:America/Indiana/Indianapolis
BEGIN:DAYLIGHT
TZOFFSETFROM:-0500
TZOFFSETTO:-0400
TZNAME:EDT
DTSTART:20260308T070000
END:DAYLIGHT
BEGIN:STANDARD
TZOFFSETFROM:-0400
TZOFFSETTO:-0500
TZNAME:EST
DTSTART:20261101T060000
END:STANDARD
END:VTIMEZONE
BEGIN:VEVENT
DTSTART;TZID=America/Indiana/Indianapolis:20261006T190000
DTEND;TZID=America/Indiana/Indianapolis:20261006T200000
DTSTAMP:20260421T183537
CREATED:20240216T172902Z
LAST-MODIFIED:20240515T181241Z
UID:10004300-1791313200-1791316800@events.indyholistichub.com
SUMMARY:Bowspring Yoga with Samantha
DESCRIPTION:Bowspring yoga is a revolutionary\, yet natural\, alignment system that celebrates and encourages the natural curves of the spine and brings forth an animal like springiness in the body. The Bowspring alignment encourages the repatterning of fascia in order to return to a state of fluid dynamism\, and opposes postural patterns that lead to imbalance. Practicing this formula will increase your strength\, mobility\, proprioception\, balance\, mental acuity\, and open up spiritual channels. \nIn this class we will spend the hour moving through poses with the throat\, belly\, and pelvic floor open: as a result\, please be advised that this class can be PROFOUNDLY engaging and opening for the physical\, mental\, emotional\, and spiritual bodies. We will end the class in a relaxing assimilation. \n**Bowspring is healing for everyone\, however this class may be too much if you are currently experiencing certain movement restrictions. If you have concerns\, please attend an Intro to Bowspring Class\, arrive to class early to chat with Samantha\, or contact Samantha directly at info@thesamanthasimpson.com
URL:https://events.indyholistichub.com/event/bowspring-yoga-with-samantha/2026-10-06/
LOCATION:The Playful Soul\, 1001 E 86th St\, Indianapolis\, Indianapolis\, Indiana\, 46240
CATEGORIES:Classes
ATTACH;FMTTYPE=image/jpeg:https://events.indyholistichub.com/wp-content/uploads/2024/02/samantha.jpg
END:VEVENT
BEGIN:VEVENT
DTSTART;TZID=America/Indiana/Indianapolis:20261007T103000
DTEND;TZID=America/Indiana/Indianapolis:20261007T114500
DTSTAMP:20260421T183537
CREATED:20240515T181830Z
LAST-MODIFIED:20241120T213057Z
UID:10005790-1791369000-1791373500@events.indyholistichub.com
SUMMARY:Yoga with Sherry
DESCRIPTION:Expect a beautiful heart-led class that begins with breath-work and intention. You will move through a series of poses that bring stillness and releases blocks while connecting with our breath and energy.  We will seal our practice with savasana\, meditation\, and set a new intention for the day. The pace of the class is based on the energy of the room~since we are all connected. (All levels are welcome)
URL:https://events.indyholistichub.com/event/yoga-with-sherry-2/2026-10-07/
LOCATION:The Playful Soul\, 1001 E 86th St\, Indianapolis\, Indianapolis\, Indiana\, 46240
CATEGORIES:Classes
ATTACH;FMTTYPE=image/jpeg:https://events.indyholistichub.com/wp-content/uploads/2024/05/yoga-with-sherry-instagram-post.jpg
END:VEVENT
BEGIN:VEVENT
DTSTART;TZID=America/Indiana/Indianapolis:20261008T180000
DTEND;TZID=America/Indiana/Indianapolis:20261008T200000
DTSTAMP:20260421T183537
CREATED:20251216T214718Z
LAST-MODIFIED:20251216T214718Z
UID:10009162-1791482400-1791489600@events.indyholistichub.com
SUMMARY:New Moon Women's Circle with Jenny Banner
DESCRIPTION:In the rush of modern life\, grounding and comfort can feel out of reach. Yet nature offers us a steady guide: the moon. Often called Grandmother Moon\, she shines with divine feminine energy—reminding us to slow down\, listen inward\, and honor life’s cycles. \nFor generations\, Indigenous cultures have honored the new moon as a sacred time to pause\, reflect\, and plant seeds of intention. Inspired by these timeless traditions\, we invite you to gather with us in circle each month. \nUpcoming New Moon Circles – 2026 \n\nSunday\, January 18\nSunday\, February 15\nSunday\, March 15\nThursday\, April 16\nThursday\, May 14\nSunday\, June 14\nSunday\, July 12\nSunday\, August 9\nThursday\, September 10\nThursday\, October 8\nSunday. November 8\nThursday\, December 10\n\nWhat to Expect \n5:30–5:45 PM – Arrival + Check-In\nPlease note: Doors close 10 minutes after the hour. \n6:00–8:00 PM – Circle Gathering\nEach circle explores a unique theme inspired by the new moon’s astrological sign. Common threads include opening sacred space\, reflective practices\, storytelling\, and collective intention-setting. \n8:00–8:30 PM – Connection + Clean-Up\nYou’re welcome to stay and connect with others or linger in the space to integrate your experience
URL:https://events.indyholistichub.com/event/new-moon-womens-circle-with-jenny-banner/2026-10-08/
LOCATION:The Playful Soul\, 1001 E 86th St\, Indianapolis\, Indianapolis\, Indiana\, 46240
ATTACH;FMTTYPE=image/jpeg:https://events.indyholistichub.com/wp-content/uploads/2025/12/2026-New-Moon-Dates.jpg
END:VEVENT
BEGIN:VEVENT
DTSTART;TZID=America/Indiana/Indianapolis:20261010T120000
DTEND;TZID=America/Indiana/Indianapolis:20261010T170000
DTSTAMP:20260421T183537
CREATED:20260319T184431Z
LAST-MODIFIED:20260319T184627Z
UID:10009312-1791633600-1791651600@events.indyholistichub.com
SUMMARY:Spirit Horse Ignited: Living in Harmony with the Fire Horse\, An Equine-Guided Wellbeing Retreat presented by Balanced Soul and Epona Healing with Horses
DESCRIPTION:There are years that ask us to rest.\nAnd there are years that ask us to rise.\nInspired by the bold\, passionate energy of the Year of the Fire Horse in Chinese astrology\, this immersive afternoon retreat invites you to awaken your vitality—without burning out. \nThe Fire Horse is radiant. Independent. Courageous.\nBut untamed fire can scatter\, exhaust\, and overwhelm. \nThe Spirit Horse teaches us something deeper:\nPower without force.\nPassion with grounding.\nMovement guided by wisdom. \n\n\n\n\n\n\n\n\nAn Emmersive Experience with Horses\n\n\n\n\nThis retreat offers embodied learning through the presence of horses—powerful mirrors of energy\, awareness\, and authenticity. \nThrough guided\, hands-on equine experiences\, you will explore: \n\n\nHow your nervous system responds under pressure \n\n\nWhere you tend to overextend or hold back \n\n\nHow to lead with calm clarity \n\n\nWhat balanced confidence feels like in your body \n\n\nHow to regulate intensity without dimming your fire \n\n\nThere is no riding in this experience. \nInstead\, you will connect\, lead\, groom\, walk\, and move with the horses through structured exercises designed to deepen emotional awareness and embodied leadership. \nNo horse experience is necessary.  \nPlease note: Participants will be engaging with horses\, but will not be riding them. \nInvestment \nEarly Registration: $195 (sign-up by September 26)\nStandard Investment: $225 \nSpace is intentionally limited to preserve depth\, safety\, and personal attention.
URL:https://events.indyholistichub.com/event/spirit-horse-ignited-living-in-harmony-with-the-fire-horse-an-equine-guided-wellbeing-retreat-presented-by-balanced-soul-and-epona-healing-with-horses/
LOCATION:Epona Healing with Horses @ Hamilton Farm\, Greensbury\, IN\, 47240
CATEGORIES:Retreat
ATTACH;FMTTYPE=image/jpeg:https://events.indyholistichub.com/wp-content/uploads/2026/03/Spirit-Horse-Ignited-1.jpg
ORGANIZER;CN="Balanced Soul":MAILTO:jennifer@balancedsoulindy.com
END:VEVENT
BEGIN:VEVENT
DTSTART;TZID=America/Indiana/Indianapolis:20261011T160000
DTEND;TZID=America/Indiana/Indianapolis:20261011T164500
DTSTAMP:20260421T183537
CREATED:20241205T190631Z
LAST-MODIFIED:20251009T171532Z
UID:10009061-1791734400-1791737100@events.indyholistichub.com
SUMMARY:Free Community Yoga Nidra
DESCRIPTION:Discover the transformative power of Yoga Nidra\, an ancient meditation technique that goes beyond the waking state to facilitate deep inner healing. Unlike traditional methods focused on “doing\,” Yoga Nidra allows you to disengage from your thoughts\, observing them without attachment. This practice helps you transcend limiting beliefs and stressful thought patterns\, creating a space for profound personal healing. By honoring the body as its own healer\, Yoga Nidra fosters a new\, healthier relationship with your mind\, leading to lasting change in your life and well-being. This class is offered by Wendy Sulkoske in appreciation of you.
URL:https://events.indyholistichub.com/event/free-community-yoga-nidra/2026-10-11/
LOCATION:The Playful Soul\, 1001 E 86th St\, Indianapolis\, Indianapolis\, Indiana\, 46240
ATTACH;FMTTYPE=image/jpeg:https://events.indyholistichub.com/wp-content/uploads/2024/12/Yoga-Nidra-8.5-x-11-in-1.jpg
END:VEVENT
BEGIN:VEVENT
DTSTART;TZID=America/Indiana/Indianapolis:20261011T170000
DTEND;TZID=America/Indiana/Indianapolis:20261011T183000
DTSTAMP:20260421T183537
CREATED:20241205T191128Z
LAST-MODIFIED:20251009T171721Z
UID:10009071-1791738000-1791743400@events.indyholistichub.com
SUMMARY:Healing Breathwork: Evolve Your Soul
DESCRIPTION:Embark on a transformative journey as you ‘Evolve Your Soul’ through Breathwork. Led by Wendy Sulkoske\, this experience invites you to delve into the profound healing potential of your breath. Each inhalation becomes a step toward unlocking inner wisdom\, fostering self-discovery\, and embracing growth. Immerse yourself in the gentle yet powerful transformation of your mind\, body\, and soul. Explore the the power of your breath\, unlock inner wisdom\, and embrace self-discovery\, release\, and growth through healing Breathwork.\nIn this sacred and gentle practice\, you’ll let go of stagnant energy\, release limiting patterns\, and connect with your True Self. \nFacilitated by Wendy Sulkoske\, she believes spiritual energy is awakened through the life-giving force of breath. Through breath\, we can heal disease\, release blocks and emotions\, and tap into our powerful intuition. These connections unite our mind\, body\, and soul\, awakening our sacred energy and potential. \nPlease bring a yoga mat\, eye mask\, & blanket (mats and blankets are also available and free to use.) $45
URL:https://events.indyholistichub.com/event/healing-breathwork-evolve-your-soul-2/2026-10-11/
LOCATION:The Playful Soul\, 1001 E 86th St\, Indianapolis\, Indianapolis\, Indiana\, 46240
ATTACH;FMTTYPE=image/jpeg:https://events.indyholistichub.com/wp-content/uploads/2024/12/Copy-of-healing-breathwork-25-8.5-x-11-in-1.jpg
END:VEVENT
BEGIN:VEVENT
DTSTART;TZID=America/Indiana/Indianapolis:20261013T190000
DTEND;TZID=America/Indiana/Indianapolis:20261013T200000
DTSTAMP:20260421T183537
CREATED:20240216T172902Z
LAST-MODIFIED:20240515T181241Z
UID:10004301-1791918000-1791921600@events.indyholistichub.com
SUMMARY:Bowspring Yoga with Samantha
DESCRIPTION:Bowspring yoga is a revolutionary\, yet natural\, alignment system that celebrates and encourages the natural curves of the spine and brings forth an animal like springiness in the body. The Bowspring alignment encourages the repatterning of fascia in order to return to a state of fluid dynamism\, and opposes postural patterns that lead to imbalance. Practicing this formula will increase your strength\, mobility\, proprioception\, balance\, mental acuity\, and open up spiritual channels. \nIn this class we will spend the hour moving through poses with the throat\, belly\, and pelvic floor open: as a result\, please be advised that this class can be PROFOUNDLY engaging and opening for the physical\, mental\, emotional\, and spiritual bodies. We will end the class in a relaxing assimilation. \n**Bowspring is healing for everyone\, however this class may be too much if you are currently experiencing certain movement restrictions. If you have concerns\, please attend an Intro to Bowspring Class\, arrive to class early to chat with Samantha\, or contact Samantha directly at info@thesamanthasimpson.com
URL:https://events.indyholistichub.com/event/bowspring-yoga-with-samantha/2026-10-13/
LOCATION:The Playful Soul\, 1001 E 86th St\, Indianapolis\, Indianapolis\, Indiana\, 46240
CATEGORIES:Classes
ATTACH;FMTTYPE=image/jpeg:https://events.indyholistichub.com/wp-content/uploads/2024/02/samantha.jpg
END:VEVENT
BEGIN:VEVENT
DTSTART;TZID=America/Indiana/Indianapolis:20261014T103000
DTEND;TZID=America/Indiana/Indianapolis:20261014T114500
DTSTAMP:20260421T183537
CREATED:20240515T181830Z
LAST-MODIFIED:20241120T213057Z
UID:10005791-1791973800-1791978300@events.indyholistichub.com
SUMMARY:Yoga with Sherry
DESCRIPTION:Expect a beautiful heart-led class that begins with breath-work and intention. You will move through a series of poses that bring stillness and releases blocks while connecting with our breath and energy.  We will seal our practice with savasana\, meditation\, and set a new intention for the day. The pace of the class is based on the energy of the room~since we are all connected. (All levels are welcome)
URL:https://events.indyholistichub.com/event/yoga-with-sherry-2/2026-10-14/
LOCATION:The Playful Soul\, 1001 E 86th St\, Indianapolis\, Indianapolis\, Indiana\, 46240
CATEGORIES:Classes
ATTACH;FMTTYPE=image/jpeg:https://events.indyholistichub.com/wp-content/uploads/2024/05/yoga-with-sherry-instagram-post.jpg
END:VEVENT
BEGIN:VEVENT
DTSTART;TZID=America/Indiana/Indianapolis:20261017T120000
DTEND;TZID=America/Indiana/Indianapolis:20261017T160000
DTSTAMP:20260421T183537
CREATED:20250206T195605Z
LAST-MODIFIED:20250328T150605Z
UID:10006642-1792238400-1792252800@events.indyholistichub.com
SUMMARY:Iridology with David Dietz
DESCRIPTION:Iridologist David Dietz offers alternative wellness assessments every first and third Saturday at The Playful Soul.  Offering a holistic approach to wellness\, David’s expertise provides a unique perspective on your journey to optimal health.
URL:https://events.indyholistichub.com/event/iridology-with-david-dietz-2/2026-10-17/
LOCATION:The Playful Soul\, 1001 E 86th St\, Indianapolis\, Indianapolis\, Indiana\, 46240
CATEGORIES:Classes,Open House
ATTACH;FMTTYPE=image/jpeg:https://events.indyholistichub.com/wp-content/uploads/2025/02/David-Dietz-NEW-25.jpg
END:VEVENT
BEGIN:VEVENT
DTSTART;TZID=America/Indiana/Indianapolis:20261018T130000
DTEND;TZID=America/Indiana/Indianapolis:20261018T160000
DTSTAMP:20260421T183537
CREATED:20240315T015709Z
LAST-MODIFIED:20240509T192740Z
UID:10005616-1792328400-1792339200@events.indyholistichub.com
SUMMARY:Women’s Wellness Workshop
DESCRIPTION:Horses\, yoga\, crafting and personal development 🐴🌿💗 \nWho would love to experience more peace and harmony in your life?  \nWhat about learning tools and techniques to release guilt\, stress & overwhelm without meds?  \nJoin the Epona Healing with Horses team for our Women’s Wellness Workshop on Sat  \n🌺April 21st\, 1pm-4pm in Greensburg\, IN \nWe are a 501(c)3 nonprofit organization with a mission to help adults\, teens\, and children release stress & anxiety to feel more calm\, confident\, and connected. \nThrough equine assisted learning and somatic modalities like breath work\, acupressure tapping\, and guided visualization\, we give individuals tools to help themselves in daily life to feel more joy\, harmony\, and happiness. \nThis event directly supports our mission and our scholarship funding efforts for families in need of services.
URL:https://events.indyholistichub.com/event/womens-wellness-workshop/2026-10-18/
LOCATION:Hamilton Farm\, 1110 S. Ireland St\, Greensburg\, IN\, 47240\, United States
CATEGORIES:Retreat,Seminar,Social
ATTACH;FMTTYPE=image/jpeg:https://events.indyholistichub.com/wp-content/uploads/2024/03/Copy-of-Gray-Cream-Minimalist-Review-Podcast-Facebook-Post-2.jpg
ORGANIZER;CN="Abby Neesen":MAILTO:eponahwh@gmail.com
END:VEVENT
BEGIN:VEVENT
DTSTART;TZID=America/Indiana/Indianapolis:20261020T190000
DTEND;TZID=America/Indiana/Indianapolis:20261020T200000
DTSTAMP:20260421T183537
CREATED:20240216T172902Z
LAST-MODIFIED:20240515T181241Z
UID:10004302-1792522800-1792526400@events.indyholistichub.com
SUMMARY:Bowspring Yoga with Samantha
DESCRIPTION:Bowspring yoga is a revolutionary\, yet natural\, alignment system that celebrates and encourages the natural curves of the spine and brings forth an animal like springiness in the body. The Bowspring alignment encourages the repatterning of fascia in order to return to a state of fluid dynamism\, and opposes postural patterns that lead to imbalance. Practicing this formula will increase your strength\, mobility\, proprioception\, balance\, mental acuity\, and open up spiritual channels. \nIn this class we will spend the hour moving through poses with the throat\, belly\, and pelvic floor open: as a result\, please be advised that this class can be PROFOUNDLY engaging and opening for the physical\, mental\, emotional\, and spiritual bodies. We will end the class in a relaxing assimilation. \n**Bowspring is healing for everyone\, however this class may be too much if you are currently experiencing certain movement restrictions. If you have concerns\, please attend an Intro to Bowspring Class\, arrive to class early to chat with Samantha\, or contact Samantha directly at info@thesamanthasimpson.com
URL:https://events.indyholistichub.com/event/bowspring-yoga-with-samantha/2026-10-20/
LOCATION:The Playful Soul\, 1001 E 86th St\, Indianapolis\, Indianapolis\, Indiana\, 46240
CATEGORIES:Classes
ATTACH;FMTTYPE=image/jpeg:https://events.indyholistichub.com/wp-content/uploads/2024/02/samantha.jpg
END:VEVENT
BEGIN:VEVENT
DTSTART;TZID=America/Indiana/Indianapolis:20261021T103000
DTEND;TZID=America/Indiana/Indianapolis:20261021T114500
DTSTAMP:20260421T183537
CREATED:20240515T181830Z
LAST-MODIFIED:20241120T213057Z
UID:10005792-1792578600-1792583100@events.indyholistichub.com
SUMMARY:Yoga with Sherry
DESCRIPTION:Expect a beautiful heart-led class that begins with breath-work and intention. You will move through a series of poses that bring stillness and releases blocks while connecting with our breath and energy.  We will seal our practice with savasana\, meditation\, and set a new intention for the day. The pace of the class is based on the energy of the room~since we are all connected. (All levels are welcome)
URL:https://events.indyholistichub.com/event/yoga-with-sherry-2/2026-10-21/
LOCATION:The Playful Soul\, 1001 E 86th St\, Indianapolis\, Indianapolis\, Indiana\, 46240
CATEGORIES:Classes
ATTACH;FMTTYPE=image/jpeg:https://events.indyholistichub.com/wp-content/uploads/2024/05/yoga-with-sherry-instagram-post.jpg
END:VEVENT
BEGIN:VEVENT
DTSTART;TZID=America/Indiana/Indianapolis:20261024T160000
DTEND;TZID=America/Indiana/Indianapolis:20261024T170000
DTSTAMP:20260421T183537
CREATED:20250813T182958Z
LAST-MODIFIED:20251111T183745Z
UID:10009101-1792857600-1792861200@events.indyholistichub.com
SUMMARY:Sound Bath Journey
DESCRIPTION:Yoga On Purpose Harmonious Serenity: Sound Bath Journey with Tibetan and Crystal Singing Bowls \nJoin us for an immersive experience of deep relaxation and rejuvenation as we embark on a yogic sound bath journey. Guided by the gentle vibrations of Tibetan and crystal singing bowls\, this session offers a unique opportunity to harmonize the mind\, body\, and spirit. \nAs you settle into a comfortable position\, allow the soothing sounds to wash over you\, creating a sense of tranquility and inner peace. The rich tones and frequencies produced by the singing bowls resonate with the body’s energy centers\, promoting balance and alignment. \nWhether you’re seeking relief from daily pressures\, seeking clarity and insight\, or simply wishing to reconnect with your inner self\, this yogic sound bath offers a sanctuary for self-care and healing. Come experience the transformative power of sound and leave feeling refreshed\, renewed\, and harmoniously aligned. $33
URL:https://events.indyholistichub.com/event/sound-bath-journey-3/2026-10-24/
LOCATION:The Playful Soul\, 1001 E 86th St\, Indianapolis\, Indianapolis\, Indiana\, 46240
ATTACH;FMTTYPE=image/jpeg:https://events.indyholistichub.com/wp-content/uploads/2025/08/Jamie-Sound-Healing-8.5-x-11-in-2.jpg
END:VEVENT
BEGIN:VEVENT
DTSTART;TZID=America/Indiana/Indianapolis:20261025T110000
DTEND;TZID=America/Indiana/Indianapolis:20261025T114500
DTSTAMP:20260421T183537
CREATED:20250912T163929Z
LAST-MODIFIED:20260318T181131Z
UID:10009307-1792926000-1792928700@events.indyholistichub.com
SUMMARY:Meditation with Marissa
DESCRIPTION:Drop in for this month’s channeled meditation with Marissa! Each monthly meditation meets on the 4th Sunday and is uniquely channeled and attuned for the collective energies occurring on the planet and the energies of the group that attends. \nThis container is a space to connect with your breath and body while tuning into your connection with a higher power and yourself 🙏🏼 \nBring a journal\, comfy clothes\, and a crystal if you’d like to meditate with one! $20
URL:https://events.indyholistichub.com/event/meditation-with-marissa-2/2026-10-25/
LOCATION:The Playful Soul\, 1001 E 86th St\, Indianapolis\, Indianapolis\, Indiana\, 46240
ATTACH;FMTTYPE=image/jpeg:https://events.indyholistichub.com/wp-content/uploads/2025/09/Meditation-with-Marissa-Instagram-Post-9.jpg
END:VEVENT
BEGIN:VEVENT
DTSTART;TZID=America/Indiana/Indianapolis:20261027T113000
DTEND;TZID=America/Indiana/Indianapolis:20261027T130000
DTSTAMP:20260421T183537
CREATED:20260220T191558Z
LAST-MODIFIED:20260220T191733Z
UID:10009268-1793100600-1793106000@events.indyholistichub.com
SUMMARY:Holistic Connection Lunch
DESCRIPTION:Connect with other holistic practitioners\, artisans\, and professionals across multiple modalities. Learn\, Grow\, Be Supported.\n\nJennifer Seffrin\, Founder of Indy Holistic Hub\, will lead us in meaningful connection time – bring your business cards and expanded hearts. You can experience:\n\nUpliftment – You are not alone. Receiving a boost of love and support impacts your energetic field. This is great check-in/reset time to be sure you are inviting in well aligned connections and clients.\nBiz ideas – Learning from each others experiences and input is a Win-Win!\nCollaborative synergies – Building genuine connections and understanding what others offer\, provides an environment for collaborations to come together.\nResource Share – Business tools\, processes\, and how-to’s to develop\, maintain and grow your business. Ask for what you are looking for.\n\nShine Your Light\, a.k.a. Share Who You Are – Tell us about you and pass around your brochures and cards.
URL:https://events.indyholistichub.com/event/holistic-connection-lunch/2026-10-27/
LOCATION:Another Broken Egg Cafe\, 5025 E 82nd St\, Indianapolis\, IN\, 46260\, United States
CATEGORIES:Holistic Hub Events
ATTACH;FMTTYPE=image/jpeg:https://events.indyholistichub.com/wp-content/uploads/2026/01/Screenshot-2026-01-16-at-1.29.06 PM.jpg
ORGANIZER;CN="Indy Holistic Hub":MAILTO:info@indyholistichub.com
END:VEVENT
BEGIN:VEVENT
DTSTART;TZID=America/Indiana/Indianapolis:20261027T190000
DTEND;TZID=America/Indiana/Indianapolis:20261027T200000
DTSTAMP:20260421T183537
CREATED:20240216T172902Z
LAST-MODIFIED:20240515T181241Z
UID:10004303-1793127600-1793131200@events.indyholistichub.com
SUMMARY:Bowspring Yoga with Samantha
DESCRIPTION:Bowspring yoga is a revolutionary\, yet natural\, alignment system that celebrates and encourages the natural curves of the spine and brings forth an animal like springiness in the body. The Bowspring alignment encourages the repatterning of fascia in order to return to a state of fluid dynamism\, and opposes postural patterns that lead to imbalance. Practicing this formula will increase your strength\, mobility\, proprioception\, balance\, mental acuity\, and open up spiritual channels. \nIn this class we will spend the hour moving through poses with the throat\, belly\, and pelvic floor open: as a result\, please be advised that this class can be PROFOUNDLY engaging and opening for the physical\, mental\, emotional\, and spiritual bodies. We will end the class in a relaxing assimilation. \n**Bowspring is healing for everyone\, however this class may be too much if you are currently experiencing certain movement restrictions. If you have concerns\, please attend an Intro to Bowspring Class\, arrive to class early to chat with Samantha\, or contact Samantha directly at info@thesamanthasimpson.com
URL:https://events.indyholistichub.com/event/bowspring-yoga-with-samantha/2026-10-27/
LOCATION:The Playful Soul\, 1001 E 86th St\, Indianapolis\, Indianapolis\, Indiana\, 46240
CATEGORIES:Classes
ATTACH;FMTTYPE=image/jpeg:https://events.indyholistichub.com/wp-content/uploads/2024/02/samantha.jpg
END:VEVENT
BEGIN:VEVENT
DTSTART;TZID=America/Indiana/Indianapolis:20261028T103000
DTEND;TZID=America/Indiana/Indianapolis:20261028T114500
DTSTAMP:20260421T183537
CREATED:20240515T181830Z
LAST-MODIFIED:20241120T213057Z
UID:10005793-1793183400-1793187900@events.indyholistichub.com
SUMMARY:Yoga with Sherry
DESCRIPTION:Expect a beautiful heart-led class that begins with breath-work and intention. You will move through a series of poses that bring stillness and releases blocks while connecting with our breath and energy.  We will seal our practice with savasana\, meditation\, and set a new intention for the day. The pace of the class is based on the energy of the room~since we are all connected. (All levels are welcome)
URL:https://events.indyholistichub.com/event/yoga-with-sherry-2/2026-10-28/
LOCATION:The Playful Soul\, 1001 E 86th St\, Indianapolis\, Indianapolis\, Indiana\, 46240
CATEGORIES:Classes
ATTACH;FMTTYPE=image/jpeg:https://events.indyholistichub.com/wp-content/uploads/2024/05/yoga-with-sherry-instagram-post.jpg
END:VEVENT
END:VCALENDAR