BEGIN:VCALENDAR
VERSION:2.0
PRODID:-//Community Calendar of Holistic Happenings - ECPv6.11.0.1//NONSGML v1.0//EN
CALSCALE:GREGORIAN
METHOD:PUBLISH
X-WR-CALNAME:Community Calendar of Holistic Happenings
X-ORIGINAL-URL:https://events.indyholistichub.com
X-WR-CALDESC:Events for Community Calendar of Holistic Happenings
REFRESH-INTERVAL;VALUE=DURATION:PT1H
X-Robots-Tag:noindex
X-PUBLISHED-TTL:PT1H
BEGIN:VTIMEZONE
TZID:America/Indiana/Indianapolis
BEGIN:DAYLIGHT
TZOFFSETFROM:-0500
TZOFFSETTO:-0400
TZNAME:EDT
DTSTART:20270314T070000
END:DAYLIGHT
BEGIN:STANDARD
TZOFFSETFROM:-0400
TZOFFSETTO:-0500
TZNAME:EST
DTSTART:20271107T060000
END:STANDARD
END:VTIMEZONE
BEGIN:VEVENT
DTSTART;TZID=America/Indiana/Indianapolis:20271003T160000
DTEND;TZID=America/Indiana/Indianapolis:20271003T164500
DTSTAMP:20260423T020510
CREATED:20241205T190631Z
LAST-MODIFIED:20251009T171532Z
UID:10007323-1822579200-1822581900@events.indyholistichub.com
SUMMARY:Free Community Yoga Nidra
DESCRIPTION:Discover the transformative power of Yoga Nidra\, an ancient meditation technique that goes beyond the waking state to facilitate deep inner healing. Unlike traditional methods focused on “doing\,” Yoga Nidra allows you to disengage from your thoughts\, observing them without attachment. This practice helps you transcend limiting beliefs and stressful thought patterns\, creating a space for profound personal healing. By honoring the body as its own healer\, Yoga Nidra fosters a new\, healthier relationship with your mind\, leading to lasting change in your life and well-being. This class is offered by Wendy Sulkoske in appreciation of you.
URL:https://events.indyholistichub.com/event/free-community-yoga-nidra/2027-10-03/
LOCATION:The Playful Soul\, 1001 E 86th St\, Indianapolis\, Indianapolis\, Indiana\, 46240
ATTACH;FMTTYPE=image/jpeg:https://events.indyholistichub.com/wp-content/uploads/2024/12/Yoga-Nidra-8.5-x-11-in-1.jpg
END:VEVENT
BEGIN:VEVENT
DTSTART;TZID=America/Indiana/Indianapolis:20271003T170000
DTEND;TZID=America/Indiana/Indianapolis:20271003T183000
DTSTAMP:20260423T020510
CREATED:20241205T191128Z
LAST-MODIFIED:20251009T171721Z
UID:10007383-1822582800-1822588200@events.indyholistichub.com
SUMMARY:Healing Breathwork: Evolve Your Soul
DESCRIPTION:Embark on a transformative journey as you ‘Evolve Your Soul’ through Breathwork. Led by Wendy Sulkoske\, this experience invites you to delve into the profound healing potential of your breath. Each inhalation becomes a step toward unlocking inner wisdom\, fostering self-discovery\, and embracing growth. Immerse yourself in the gentle yet powerful transformation of your mind\, body\, and soul. Explore the the power of your breath\, unlock inner wisdom\, and embrace self-discovery\, release\, and growth through healing Breathwork.\nIn this sacred and gentle practice\, you’ll let go of stagnant energy\, release limiting patterns\, and connect with your True Self. \nFacilitated by Wendy Sulkoske\, she believes spiritual energy is awakened through the life-giving force of breath. Through breath\, we can heal disease\, release blocks and emotions\, and tap into our powerful intuition. These connections unite our mind\, body\, and soul\, awakening our sacred energy and potential. \nPlease bring a yoga mat\, eye mask\, & blanket (mats and blankets are also available and free to use.) $45
URL:https://events.indyholistichub.com/event/healing-breathwork-evolve-your-soul-2/2027-10-03/
LOCATION:The Playful Soul\, 1001 E 86th St\, Indianapolis\, Indianapolis\, Indiana\, 46240
ATTACH;FMTTYPE=image/jpeg:https://events.indyholistichub.com/wp-content/uploads/2024/12/Copy-of-healing-breathwork-25-8.5-x-11-in-1.jpg
END:VEVENT
BEGIN:VEVENT
DTSTART;TZID=America/Indiana/Indianapolis:20271005T190000
DTEND;TZID=America/Indiana/Indianapolis:20271005T200000
DTSTAMP:20260423T020510
CREATED:20240216T172902Z
LAST-MODIFIED:20240515T181241Z
UID:10004352-1822762800-1822766400@events.indyholistichub.com
SUMMARY:Bowspring Yoga with Samantha
DESCRIPTION:Bowspring yoga is a revolutionary\, yet natural\, alignment system that celebrates and encourages the natural curves of the spine and brings forth an animal like springiness in the body. The Bowspring alignment encourages the repatterning of fascia in order to return to a state of fluid dynamism\, and opposes postural patterns that lead to imbalance. Practicing this formula will increase your strength\, mobility\, proprioception\, balance\, mental acuity\, and open up spiritual channels. \nIn this class we will spend the hour moving through poses with the throat\, belly\, and pelvic floor open: as a result\, please be advised that this class can be PROFOUNDLY engaging and opening for the physical\, mental\, emotional\, and spiritual bodies. We will end the class in a relaxing assimilation. \n**Bowspring is healing for everyone\, however this class may be too much if you are currently experiencing certain movement restrictions. If you have concerns\, please attend an Intro to Bowspring Class\, arrive to class early to chat with Samantha\, or contact Samantha directly at info@thesamanthasimpson.com
URL:https://events.indyholistichub.com/event/bowspring-yoga-with-samantha/2027-10-05/
LOCATION:The Playful Soul\, 1001 E 86th St\, Indianapolis\, Indianapolis\, Indiana\, 46240
CATEGORIES:Classes
ATTACH;FMTTYPE=image/jpeg:https://events.indyholistichub.com/wp-content/uploads/2024/02/samantha.jpg
END:VEVENT
BEGIN:VEVENT
DTSTART;TZID=America/Indiana/Indianapolis:20271006T103000
DTEND;TZID=America/Indiana/Indianapolis:20271006T114500
DTSTAMP:20260423T020510
CREATED:20240515T181830Z
LAST-MODIFIED:20241120T213057Z
UID:10005842-1822818600-1822823100@events.indyholistichub.com
SUMMARY:Yoga with Sherry
DESCRIPTION:Expect a beautiful heart-led class that begins with breath-work and intention. You will move through a series of poses that bring stillness and releases blocks while connecting with our breath and energy.  We will seal our practice with savasana\, meditation\, and set a new intention for the day. The pace of the class is based on the energy of the room~since we are all connected. (All levels are welcome)
URL:https://events.indyholistichub.com/event/yoga-with-sherry-2/2027-10-06/
LOCATION:The Playful Soul\, 1001 E 86th St\, Indianapolis\, Indianapolis\, Indiana\, 46240
CATEGORIES:Classes
ATTACH;FMTTYPE=image/jpeg:https://events.indyholistichub.com/wp-content/uploads/2024/05/yoga-with-sherry-instagram-post.jpg
END:VEVENT
BEGIN:VEVENT
DTSTART;TZID=America/Indiana/Indianapolis:20271012T190000
DTEND;TZID=America/Indiana/Indianapolis:20271012T200000
DTSTAMP:20260423T020510
CREATED:20240216T172902Z
LAST-MODIFIED:20240515T181241Z
UID:10004353-1823367600-1823371200@events.indyholistichub.com
SUMMARY:Bowspring Yoga with Samantha
DESCRIPTION:Bowspring yoga is a revolutionary\, yet natural\, alignment system that celebrates and encourages the natural curves of the spine and brings forth an animal like springiness in the body. The Bowspring alignment encourages the repatterning of fascia in order to return to a state of fluid dynamism\, and opposes postural patterns that lead to imbalance. Practicing this formula will increase your strength\, mobility\, proprioception\, balance\, mental acuity\, and open up spiritual channels. \nIn this class we will spend the hour moving through poses with the throat\, belly\, and pelvic floor open: as a result\, please be advised that this class can be PROFOUNDLY engaging and opening for the physical\, mental\, emotional\, and spiritual bodies. We will end the class in a relaxing assimilation. \n**Bowspring is healing for everyone\, however this class may be too much if you are currently experiencing certain movement restrictions. If you have concerns\, please attend an Intro to Bowspring Class\, arrive to class early to chat with Samantha\, or contact Samantha directly at info@thesamanthasimpson.com
URL:https://events.indyholistichub.com/event/bowspring-yoga-with-samantha/2027-10-12/
LOCATION:The Playful Soul\, 1001 E 86th St\, Indianapolis\, Indianapolis\, Indiana\, 46240
CATEGORIES:Classes
ATTACH;FMTTYPE=image/jpeg:https://events.indyholistichub.com/wp-content/uploads/2024/02/samantha.jpg
END:VEVENT
BEGIN:VEVENT
DTSTART;TZID=America/Indiana/Indianapolis:20271013T103000
DTEND;TZID=America/Indiana/Indianapolis:20271013T114500
DTSTAMP:20260423T020510
CREATED:20240515T181830Z
LAST-MODIFIED:20241120T213057Z
UID:10005843-1823423400-1823427900@events.indyholistichub.com
SUMMARY:Yoga with Sherry
DESCRIPTION:Expect a beautiful heart-led class that begins with breath-work and intention. You will move through a series of poses that bring stillness and releases blocks while connecting with our breath and energy.  We will seal our practice with savasana\, meditation\, and set a new intention for the day. The pace of the class is based on the energy of the room~since we are all connected. (All levels are welcome)
URL:https://events.indyholistichub.com/event/yoga-with-sherry-2/2027-10-13/
LOCATION:The Playful Soul\, 1001 E 86th St\, Indianapolis\, Indianapolis\, Indiana\, 46240
CATEGORIES:Classes
ATTACH;FMTTYPE=image/jpeg:https://events.indyholistichub.com/wp-content/uploads/2024/05/yoga-with-sherry-instagram-post.jpg
END:VEVENT
BEGIN:VEVENT
DTSTART;TZID=America/Indiana/Indianapolis:20271016T120000
DTEND;TZID=America/Indiana/Indianapolis:20271016T160000
DTSTAMP:20260423T020510
CREATED:20250206T195605Z
LAST-MODIFIED:20250328T150605Z
UID:10006654-1823688000-1823702400@events.indyholistichub.com
SUMMARY:Iridology with David Dietz
DESCRIPTION:Iridologist David Dietz offers alternative wellness assessments every first and third Saturday at The Playful Soul.  Offering a holistic approach to wellness\, David’s expertise provides a unique perspective on your journey to optimal health.
URL:https://events.indyholistichub.com/event/iridology-with-david-dietz-2/2027-10-16/
LOCATION:The Playful Soul\, 1001 E 86th St\, Indianapolis\, Indianapolis\, Indiana\, 46240
CATEGORIES:Classes,Open House
ATTACH;FMTTYPE=image/jpeg:https://events.indyholistichub.com/wp-content/uploads/2025/02/David-Dietz-NEW-25.jpg
END:VEVENT
BEGIN:VEVENT
DTSTART;TZID=America/Indiana/Indianapolis:20271017T130000
DTEND;TZID=America/Indiana/Indianapolis:20271017T160000
DTSTAMP:20260423T020510
CREATED:20240315T015709Z
LAST-MODIFIED:20240509T192740Z
UID:10005628-1823778000-1823788800@events.indyholistichub.com
SUMMARY:Women’s Wellness Workshop
DESCRIPTION:Horses\, yoga\, crafting and personal development 🐴🌿💗 \nWho would love to experience more peace and harmony in your life?  \nWhat about learning tools and techniques to release guilt\, stress & overwhelm without meds?  \nJoin the Epona Healing with Horses team for our Women’s Wellness Workshop on Sat  \n🌺April 21st\, 1pm-4pm in Greensburg\, IN \nWe are a 501(c)3 nonprofit organization with a mission to help adults\, teens\, and children release stress & anxiety to feel more calm\, confident\, and connected. \nThrough equine assisted learning and somatic modalities like breath work\, acupressure tapping\, and guided visualization\, we give individuals tools to help themselves in daily life to feel more joy\, harmony\, and happiness. \nThis event directly supports our mission and our scholarship funding efforts for families in need of services.
URL:https://events.indyholistichub.com/event/womens-wellness-workshop/2027-10-17/
LOCATION:Hamilton Farm\, 1110 S. Ireland St\, Greensburg\, IN\, 47240\, United States
CATEGORIES:Retreat,Seminar,Social
ATTACH;FMTTYPE=image/jpeg:https://events.indyholistichub.com/wp-content/uploads/2024/03/Copy-of-Gray-Cream-Minimalist-Review-Podcast-Facebook-Post-2.jpg
ORGANIZER;CN="Abby Neesen":MAILTO:eponahwh@gmail.com
END:VEVENT
BEGIN:VEVENT
DTSTART;TZID=America/Indiana/Indianapolis:20271019T190000
DTEND;TZID=America/Indiana/Indianapolis:20271019T200000
DTSTAMP:20260423T020510
CREATED:20240216T172902Z
LAST-MODIFIED:20240515T181241Z
UID:10004354-1823972400-1823976000@events.indyholistichub.com
SUMMARY:Bowspring Yoga with Samantha
DESCRIPTION:Bowspring yoga is a revolutionary\, yet natural\, alignment system that celebrates and encourages the natural curves of the spine and brings forth an animal like springiness in the body. The Bowspring alignment encourages the repatterning of fascia in order to return to a state of fluid dynamism\, and opposes postural patterns that lead to imbalance. Practicing this formula will increase your strength\, mobility\, proprioception\, balance\, mental acuity\, and open up spiritual channels. \nIn this class we will spend the hour moving through poses with the throat\, belly\, and pelvic floor open: as a result\, please be advised that this class can be PROFOUNDLY engaging and opening for the physical\, mental\, emotional\, and spiritual bodies. We will end the class in a relaxing assimilation. \n**Bowspring is healing for everyone\, however this class may be too much if you are currently experiencing certain movement restrictions. If you have concerns\, please attend an Intro to Bowspring Class\, arrive to class early to chat with Samantha\, or contact Samantha directly at info@thesamanthasimpson.com
URL:https://events.indyholistichub.com/event/bowspring-yoga-with-samantha/2027-10-19/
LOCATION:The Playful Soul\, 1001 E 86th St\, Indianapolis\, Indianapolis\, Indiana\, 46240
CATEGORIES:Classes
ATTACH;FMTTYPE=image/jpeg:https://events.indyholistichub.com/wp-content/uploads/2024/02/samantha.jpg
END:VEVENT
BEGIN:VEVENT
DTSTART;TZID=America/Indiana/Indianapolis:20271020T103000
DTEND;TZID=America/Indiana/Indianapolis:20271020T114500
DTSTAMP:20260423T020510
CREATED:20240515T181830Z
LAST-MODIFIED:20241120T213057Z
UID:10005844-1824028200-1824032700@events.indyholistichub.com
SUMMARY:Yoga with Sherry
DESCRIPTION:Expect a beautiful heart-led class that begins with breath-work and intention. You will move through a series of poses that bring stillness and releases blocks while connecting with our breath and energy.  We will seal our practice with savasana\, meditation\, and set a new intention for the day. The pace of the class is based on the energy of the room~since we are all connected. (All levels are welcome)
URL:https://events.indyholistichub.com/event/yoga-with-sherry-2/2027-10-20/
LOCATION:The Playful Soul\, 1001 E 86th St\, Indianapolis\, Indianapolis\, Indiana\, 46240
CATEGORIES:Classes
ATTACH;FMTTYPE=image/jpeg:https://events.indyholistichub.com/wp-content/uploads/2024/05/yoga-with-sherry-instagram-post.jpg
END:VEVENT
BEGIN:VEVENT
DTSTART;TZID=America/Indiana/Indianapolis:20271026T190000
DTEND;TZID=America/Indiana/Indianapolis:20271026T200000
DTSTAMP:20260423T020510
CREATED:20240216T172902Z
LAST-MODIFIED:20240515T181241Z
UID:10004355-1824577200-1824580800@events.indyholistichub.com
SUMMARY:Bowspring Yoga with Samantha
DESCRIPTION:Bowspring yoga is a revolutionary\, yet natural\, alignment system that celebrates and encourages the natural curves of the spine and brings forth an animal like springiness in the body. The Bowspring alignment encourages the repatterning of fascia in order to return to a state of fluid dynamism\, and opposes postural patterns that lead to imbalance. Practicing this formula will increase your strength\, mobility\, proprioception\, balance\, mental acuity\, and open up spiritual channels. \nIn this class we will spend the hour moving through poses with the throat\, belly\, and pelvic floor open: as a result\, please be advised that this class can be PROFOUNDLY engaging and opening for the physical\, mental\, emotional\, and spiritual bodies. We will end the class in a relaxing assimilation. \n**Bowspring is healing for everyone\, however this class may be too much if you are currently experiencing certain movement restrictions. If you have concerns\, please attend an Intro to Bowspring Class\, arrive to class early to chat with Samantha\, or contact Samantha directly at info@thesamanthasimpson.com
URL:https://events.indyholistichub.com/event/bowspring-yoga-with-samantha/2027-10-26/
LOCATION:The Playful Soul\, 1001 E 86th St\, Indianapolis\, Indianapolis\, Indiana\, 46240
CATEGORIES:Classes
ATTACH;FMTTYPE=image/jpeg:https://events.indyholistichub.com/wp-content/uploads/2024/02/samantha.jpg
END:VEVENT
BEGIN:VEVENT
DTSTART;TZID=America/Indiana/Indianapolis:20271027T103000
DTEND;TZID=America/Indiana/Indianapolis:20271027T114500
DTSTAMP:20260423T020510
CREATED:20240515T181830Z
LAST-MODIFIED:20241120T213057Z
UID:10005845-1824633000-1824637500@events.indyholistichub.com
SUMMARY:Yoga with Sherry
DESCRIPTION:Expect a beautiful heart-led class that begins with breath-work and intention. You will move through a series of poses that bring stillness and releases blocks while connecting with our breath and energy.  We will seal our practice with savasana\, meditation\, and set a new intention for the day. The pace of the class is based on the energy of the room~since we are all connected. (All levels are welcome)
URL:https://events.indyholistichub.com/event/yoga-with-sherry-2/2027-10-27/
LOCATION:The Playful Soul\, 1001 E 86th St\, Indianapolis\, Indianapolis\, Indiana\, 46240
CATEGORIES:Classes
ATTACH;FMTTYPE=image/jpeg:https://events.indyholistichub.com/wp-content/uploads/2024/05/yoga-with-sherry-instagram-post.jpg
END:VEVENT
END:VCALENDAR