BEGIN:VCALENDAR
VERSION:2.0
PRODID:-//Community Calendar of Holistic Happenings - ECPv6.11.0.1//NONSGML v1.0//EN
CALSCALE:GREGORIAN
METHOD:PUBLISH
X-ORIGINAL-URL:https://events.indyholistichub.com
X-WR-CALDESC:Events for Community Calendar of Holistic Happenings
REFRESH-INTERVAL;VALUE=DURATION:PT1H
X-Robots-Tag:noindex
X-PUBLISHED-TTL:PT1H
BEGIN:VTIMEZONE
TZID:America/Indiana/Indianapolis
BEGIN:DAYLIGHT
TZOFFSETFROM:-0500
TZOFFSETTO:-0400
TZNAME:EDT
DTSTART:20290311T070000
END:DAYLIGHT
BEGIN:STANDARD
TZOFFSETFROM:-0400
TZOFFSETTO:-0500
TZNAME:EST
DTSTART:20291104T060000
END:STANDARD
END:VTIMEZONE
BEGIN:VEVENT
DTSTART;TZID=America/Indiana/Indianapolis:20291003T103000
DTEND;TZID=America/Indiana/Indianapolis:20291003T114500
DTSTAMP:20260425T064142
CREATED:20240515T181830Z
LAST-MODIFIED:20241120T213057Z
UID:10006482-1885717800-1885722300@events.indyholistichub.com
SUMMARY:Yoga with Sherry
DESCRIPTION:Expect a beautiful heart-led class that begins with breath-work and intention. You will move through a series of poses that bring stillness and releases blocks while connecting with our breath and energy.  We will seal our practice with savasana\, meditation\, and set a new intention for the day. The pace of the class is based on the energy of the room~since we are all connected. (All levels are welcome)
URL:https://events.indyholistichub.com/event/yoga-with-sherry-2/2029-10-03/
LOCATION:The Playful Soul\, 1001 E 86th St\, Indianapolis\, Indianapolis\, Indiana\, 46240
CATEGORIES:Classes
ATTACH;FMTTYPE=image/jpeg:https://events.indyholistichub.com/wp-content/uploads/2024/05/yoga-with-sherry-instagram-post.jpg
END:VEVENT
BEGIN:VEVENT
DTSTART;TZID=America/Indiana/Indianapolis:20291007T160000
DTEND;TZID=America/Indiana/Indianapolis:20291007T164500
DTSTAMP:20260425T064142
CREATED:20241205T190631Z
LAST-MODIFIED:20251009T171532Z
UID:10007347-1886083200-1886085900@events.indyholistichub.com
SUMMARY:Free Community Yoga Nidra
DESCRIPTION:Discover the transformative power of Yoga Nidra\, an ancient meditation technique that goes beyond the waking state to facilitate deep inner healing. Unlike traditional methods focused on “doing\,” Yoga Nidra allows you to disengage from your thoughts\, observing them without attachment. This practice helps you transcend limiting beliefs and stressful thought patterns\, creating a space for profound personal healing. By honoring the body as its own healer\, Yoga Nidra fosters a new\, healthier relationship with your mind\, leading to lasting change in your life and well-being. This class is offered by Wendy Sulkoske in appreciation of you.
URL:https://events.indyholistichub.com/event/free-community-yoga-nidra/2029-10-07/
LOCATION:The Playful Soul\, 1001 E 86th St\, Indianapolis\, Indianapolis\, Indiana\, 46240
ATTACH;FMTTYPE=image/jpeg:https://events.indyholistichub.com/wp-content/uploads/2024/12/Yoga-Nidra-8.5-x-11-in-1.jpg
END:VEVENT
BEGIN:VEVENT
DTSTART;TZID=America/Indiana/Indianapolis:20291007T170000
DTEND;TZID=America/Indiana/Indianapolis:20291007T183000
DTSTAMP:20260425T064142
CREATED:20241205T191128Z
LAST-MODIFIED:20251009T171721Z
UID:10007407-1886086800-1886092200@events.indyholistichub.com
SUMMARY:Healing Breathwork: Evolve Your Soul
DESCRIPTION:Embark on a transformative journey as you ‘Evolve Your Soul’ through Breathwork. Led by Wendy Sulkoske\, this experience invites you to delve into the profound healing potential of your breath. Each inhalation becomes a step toward unlocking inner wisdom\, fostering self-discovery\, and embracing growth. Immerse yourself in the gentle yet powerful transformation of your mind\, body\, and soul. Explore the the power of your breath\, unlock inner wisdom\, and embrace self-discovery\, release\, and growth through healing Breathwork.\nIn this sacred and gentle practice\, you’ll let go of stagnant energy\, release limiting patterns\, and connect with your True Self. \nFacilitated by Wendy Sulkoske\, she believes spiritual energy is awakened through the life-giving force of breath. Through breath\, we can heal disease\, release blocks and emotions\, and tap into our powerful intuition. These connections unite our mind\, body\, and soul\, awakening our sacred energy and potential. \nPlease bring a yoga mat\, eye mask\, & blanket (mats and blankets are also available and free to use.) $45
URL:https://events.indyholistichub.com/event/healing-breathwork-evolve-your-soul-2/2029-10-07/
LOCATION:The Playful Soul\, 1001 E 86th St\, Indianapolis\, Indianapolis\, Indiana\, 46240
ATTACH;FMTTYPE=image/jpeg:https://events.indyholistichub.com/wp-content/uploads/2024/12/Copy-of-healing-breathwork-25-8.5-x-11-in-1.jpg
END:VEVENT
BEGIN:VEVENT
DTSTART;TZID=America/Indiana/Indianapolis:20291010T103000
DTEND;TZID=America/Indiana/Indianapolis:20291010T114500
DTSTAMP:20260425T064142
CREATED:20240515T181830Z
LAST-MODIFIED:20241120T213057Z
UID:10006483-1886322600-1886327100@events.indyholistichub.com
SUMMARY:Yoga with Sherry
DESCRIPTION:Expect a beautiful heart-led class that begins with breath-work and intention. You will move through a series of poses that bring stillness and releases blocks while connecting with our breath and energy.  We will seal our practice with savasana\, meditation\, and set a new intention for the day. The pace of the class is based on the energy of the room~since we are all connected. (All levels are welcome)
URL:https://events.indyholistichub.com/event/yoga-with-sherry-2/2029-10-10/
LOCATION:The Playful Soul\, 1001 E 86th St\, Indianapolis\, Indianapolis\, Indiana\, 46240
CATEGORIES:Classes
ATTACH;FMTTYPE=image/jpeg:https://events.indyholistichub.com/wp-content/uploads/2024/05/yoga-with-sherry-instagram-post.jpg
END:VEVENT
BEGIN:VEVENT
DTSTART;TZID=America/Indiana/Indianapolis:20291017T103000
DTEND;TZID=America/Indiana/Indianapolis:20291017T114500
DTSTAMP:20260425T064142
CREATED:20240515T181830Z
LAST-MODIFIED:20241120T213057Z
UID:10006484-1886927400-1886931900@events.indyholistichub.com
SUMMARY:Yoga with Sherry
DESCRIPTION:Expect a beautiful heart-led class that begins with breath-work and intention. You will move through a series of poses that bring stillness and releases blocks while connecting with our breath and energy.  We will seal our practice with savasana\, meditation\, and set a new intention for the day. The pace of the class is based on the energy of the room~since we are all connected. (All levels are welcome)
URL:https://events.indyholistichub.com/event/yoga-with-sherry-2/2029-10-17/
LOCATION:The Playful Soul\, 1001 E 86th St\, Indianapolis\, Indianapolis\, Indiana\, 46240
CATEGORIES:Classes
ATTACH;FMTTYPE=image/jpeg:https://events.indyholistichub.com/wp-content/uploads/2024/05/yoga-with-sherry-instagram-post.jpg
END:VEVENT
BEGIN:VEVENT
DTSTART;TZID=America/Indiana/Indianapolis:20291020T120000
DTEND;TZID=America/Indiana/Indianapolis:20291020T160000
DTSTAMP:20260425T064142
CREATED:20250206T195605Z
LAST-MODIFIED:20250328T150605Z
UID:10006678-1887192000-1887206400@events.indyholistichub.com
SUMMARY:Iridology with David Dietz
DESCRIPTION:Iridologist David Dietz offers alternative wellness assessments every first and third Saturday at The Playful Soul.  Offering a holistic approach to wellness\, David’s expertise provides a unique perspective on your journey to optimal health.
URL:https://events.indyholistichub.com/event/iridology-with-david-dietz-2/2029-10-20/
LOCATION:The Playful Soul\, 1001 E 86th St\, Indianapolis\, Indianapolis\, Indiana\, 46240
CATEGORIES:Classes,Open House
ATTACH;FMTTYPE=image/jpeg:https://events.indyholistichub.com/wp-content/uploads/2025/02/David-Dietz-NEW-25.jpg
END:VEVENT
BEGIN:VEVENT
DTSTART;TZID=America/Indiana/Indianapolis:20291024T103000
DTEND;TZID=America/Indiana/Indianapolis:20291024T114500
DTSTAMP:20260425T064142
CREATED:20240515T181830Z
LAST-MODIFIED:20241120T213057Z
UID:10006485-1887532200-1887536700@events.indyholistichub.com
SUMMARY:Yoga with Sherry
DESCRIPTION:Expect a beautiful heart-led class that begins with breath-work and intention. You will move through a series of poses that bring stillness and releases blocks while connecting with our breath and energy.  We will seal our practice with savasana\, meditation\, and set a new intention for the day. The pace of the class is based on the energy of the room~since we are all connected. (All levels are welcome)
URL:https://events.indyholistichub.com/event/yoga-with-sherry-2/2029-10-24/
LOCATION:The Playful Soul\, 1001 E 86th St\, Indianapolis\, Indianapolis\, Indiana\, 46240
CATEGORIES:Classes
ATTACH;FMTTYPE=image/jpeg:https://events.indyholistichub.com/wp-content/uploads/2024/05/yoga-with-sherry-instagram-post.jpg
END:VEVENT
BEGIN:VEVENT
DTSTART;TZID=America/Indiana/Indianapolis:20291031T103000
DTEND;TZID=America/Indiana/Indianapolis:20291031T114500
DTSTAMP:20260425T064142
CREATED:20240515T181830Z
LAST-MODIFIED:20241120T213057Z
UID:10006486-1888137000-1888141500@events.indyholistichub.com
SUMMARY:Yoga with Sherry
DESCRIPTION:Expect a beautiful heart-led class that begins with breath-work and intention. You will move through a series of poses that bring stillness and releases blocks while connecting with our breath and energy.  We will seal our practice with savasana\, meditation\, and set a new intention for the day. The pace of the class is based on the energy of the room~since we are all connected. (All levels are welcome)
URL:https://events.indyholistichub.com/event/yoga-with-sherry-2/2029-10-31/
LOCATION:The Playful Soul\, 1001 E 86th St\, Indianapolis\, Indianapolis\, Indiana\, 46240
CATEGORIES:Classes
ATTACH;FMTTYPE=image/jpeg:https://events.indyholistichub.com/wp-content/uploads/2024/05/yoga-with-sherry-instagram-post.jpg
END:VEVENT
END:VCALENDAR