BEGIN:VCALENDAR
VERSION:2.0
PRODID:-//Community Calendar of Holistic Happenings - ECPv6.11.0.1//NONSGML v1.0//EN
CALSCALE:GREGORIAN
METHOD:PUBLISH
X-ORIGINAL-URL:https://events.indyholistichub.com
X-WR-CALDESC:Events for Community Calendar of Holistic Happenings
REFRESH-INTERVAL;VALUE=DURATION:PT1H
X-Robots-Tag:noindex
X-PUBLISHED-TTL:PT1H
BEGIN:VTIMEZONE
TZID:America/Indiana/Indianapolis
BEGIN:DAYLIGHT
TZOFFSETFROM:-0500
TZOFFSETTO:-0400
TZNAME:EDT
DTSTART:20260308T070000
END:DAYLIGHT
BEGIN:STANDARD
TZOFFSETFROM:-0400
TZOFFSETTO:-0500
TZNAME:EST
DTSTART:20261101T060000
END:STANDARD
END:VTIMEZONE
BEGIN:VEVENT
DTSTART;TZID=America/Indiana/Indianapolis:20260421T190000
DTEND;TZID=America/Indiana/Indianapolis:20260421T200000
DTSTAMP:20260421T054524
CREATED:20190424T132723Z
LAST-MODIFIED:20260326T173147Z
UID:10001332-1776798000-1776801600@events.indyholistichub.com
SUMMARY:Evening with the Doctor
DESCRIPTION:This free\, foundational class introduces our clinic and the techniques we use to give your body the opportunity to restore its natural ability to heal. \nLearn About:\n• The Bio-Energetic Synchronization Technique: A neuro-emotional clearing technique that addresses the source of interference with your health rather than treating the symptoms.\n• The Six Essentials: Every day choices you make that determine your health and well-being.\n• Support Techniques: Steps you can take at home to live your optimal life. \nReservations are required as seating is limited. Please contact our office to reserve your place at 317-872-9300.
URL:https://events.indyholistichub.com/event/evening-with-the-doctor-7/
LOCATION:Morter HealthCenter\, 10439 Commerce Drive\, Suite 140\, Carmel\, IN\, 46032\, United States
CATEGORIES:Classes
ATTACH;FMTTYPE=image/jpeg:https://events.indyholistichub.com/wp-content/uploads/2019/04/EWD-FLYER-2020-cnl-no-photos-COVID-19-UPDATE-scaled.jpg
ORGANIZER;CN="Morter HealthCenter":MAILTO:info@morterhealthcenter.com
END:VEVENT
BEGIN:VEVENT
DTSTART;TZID=America/Indiana/Indianapolis:20260421T190000
DTEND;TZID=America/Indiana/Indianapolis:20260421T200000
DTSTAMP:20260421T054524
CREATED:20240216T172902Z
LAST-MODIFIED:20240515T181241Z
UID:10004276-1776798000-1776801600@events.indyholistichub.com
SUMMARY:Bowspring Yoga with Samantha
DESCRIPTION:Bowspring yoga is a revolutionary\, yet natural\, alignment system that celebrates and encourages the natural curves of the spine and brings forth an animal like springiness in the body. The Bowspring alignment encourages the repatterning of fascia in order to return to a state of fluid dynamism\, and opposes postural patterns that lead to imbalance. Practicing this formula will increase your strength\, mobility\, proprioception\, balance\, mental acuity\, and open up spiritual channels. \nIn this class we will spend the hour moving through poses with the throat\, belly\, and pelvic floor open: as a result\, please be advised that this class can be PROFOUNDLY engaging and opening for the physical\, mental\, emotional\, and spiritual bodies. We will end the class in a relaxing assimilation. \n**Bowspring is healing for everyone\, however this class may be too much if you are currently experiencing certain movement restrictions. If you have concerns\, please attend an Intro to Bowspring Class\, arrive to class early to chat with Samantha\, or contact Samantha directly at info@thesamanthasimpson.com
URL:https://events.indyholistichub.com/event/bowspring-yoga-with-samantha/2026-04-21/
LOCATION:The Playful Soul\, 1001 E 86th St\, Indianapolis\, Indianapolis\, Indiana\, 46240
CATEGORIES:Classes
ATTACH;FMTTYPE=image/jpeg:https://events.indyholistichub.com/wp-content/uploads/2024/02/samantha.jpg
END:VEVENT
BEGIN:VEVENT
DTSTART;TZID=America/Indiana/Indianapolis:20260421T193000
DTEND;TZID=America/Indiana/Indianapolis:20260421T203000
DTSTAMP:20260421T054524
CREATED:20250416T195535Z
LAST-MODIFIED:20250929T171436Z
UID:10009028-1776799800-1776803400@events.indyholistichub.com
SUMMARY:Public Meditation for PEACE
DESCRIPTION:Get your weekly dose of Peace Practice every Tuesday evening at Prana Play in Carmel! \nThis is not your average meditation.\nJoin us for a playful practice as we experience the power of stillness.\nWhether you are new to meditation or have been practicing for years\, ALL are welcome.\nOur goals?\nLevel 1 – Help individuals create more inner peace\nLevel 2 – Support cooperation and the civility conversation in Carmel\nLevel 3 – Bless the Earth and do our part to promote global peace \nHosted by Prana Bar each and every Tuesday from 7:30pm-8:15pm.
URL:https://events.indyholistichub.com/event/public-meditation-for-peace/2026-04-21/
LOCATION:Prana Play Carmel\, 1019 3rd Ave. SW\, Carmel\, 46032\, United States
CATEGORIES:Meetup
ATTACH;FMTTYPE=image/png:https://events.indyholistichub.com/wp-content/uploads/2025/04/Meditation-for-Peace-Postcard-4-1.png
ORGANIZER;CN="Paula Lord":MAILTO:paula@gymrootsinc.com
END:VEVENT
BEGIN:VEVENT
DTSTART;TZID=America/Indiana/Indianapolis:20260422T103000
DTEND;TZID=America/Indiana/Indianapolis:20260422T114500
DTSTAMP:20260421T054524
CREATED:20240515T181830Z
LAST-MODIFIED:20241120T213057Z
UID:10005766-1776853800-1776858300@events.indyholistichub.com
SUMMARY:Yoga with Sherry
DESCRIPTION:Expect a beautiful heart-led class that begins with breath-work and intention. You will move through a series of poses that bring stillness and releases blocks while connecting with our breath and energy.  We will seal our practice with savasana\, meditation\, and set a new intention for the day. The pace of the class is based on the energy of the room~since we are all connected. (All levels are welcome)
URL:https://events.indyholistichub.com/event/yoga-with-sherry-2/2026-04-22/
LOCATION:The Playful Soul\, 1001 E 86th St\, Indianapolis\, Indianapolis\, Indiana\, 46240
CATEGORIES:Classes
ATTACH;FMTTYPE=image/jpeg:https://events.indyholistichub.com/wp-content/uploads/2024/05/yoga-with-sherry-instagram-post.jpg
END:VEVENT
BEGIN:VEVENT
DTSTART;TZID=America/Indiana/Indianapolis:20260423T190000
DTEND;TZID=America/Indiana/Indianapolis:20260423T210000
DTSTAMP:20260421T054524
CREATED:20260311T123006Z
LAST-MODIFIED:20260311T125334Z
UID:10009296-1776970800-1776978000@events.indyholistichub.com
SUMMARY:Exercise & Rest: A Conscious Self-Care Series
DESCRIPTION:Join Dr. Scott Cooper and Dr. Vicki Knapke in an engaging conversation focusing on two of the Six Essentials of Health! \n·         Explore the benefits of strength training and aerobic exercise \n·         Create and maintain a successful plan for restful and healing sleep \n·         Learn effective exercises for your heart\, nervous system\, and energy field \nThere is no charge for the class and it is held in our clinic. \nReservations are required. Please contact our office to reserve your place.
URL:https://events.indyholistichub.com/event/exercise-rest-a-conscious-self-care-series/
LOCATION:Morter HealthCenter\, 10439 Commerce Drive\, Suite 140\, Carmel\, IN\, 46032\, United States
CATEGORIES:Classes
ATTACH;FMTTYPE=image/jpeg:https://events.indyholistichub.com/wp-content/uploads/2026/03/EXERCISE-AND-REST-FLYER-2026-photos-1.jpg
ORGANIZER;CN="Morter HealthCenter":MAILTO:info@morterhealthcenter.com
END:VEVENT
BEGIN:VEVENT
DTSTART;TZID=America/Indiana/Indianapolis:20260424T180000
DTEND;TZID=America/Indiana/Indianapolis:20260424T193000
DTSTAMP:20260421T054524
CREATED:20260318T191956Z
LAST-MODIFIED:20260318T192244Z
UID:10009309-1777053600-1777059000@events.indyholistichub.com
SUMMARY:Sacred Rage: A Somatic Release Ritual
DESCRIPTION:You are invited into a safe\, held space to explore the parts of yourself that have been quieted\, softened\, or suppressed. \nSo many women have been taught to push down anger\, rage\, frustration\, and grief—to be “good\,” composed\, and accommodating. But what is not felt does not disappear. It lives in the body\, often showing up as tension\, pain\, disconnection\, or dysregulation. \nThis gathering is an invitation to intentionally reconnect with these emotions and allow them to move. \nThrough guided somatic and embodied practices\, we will create space to feel\, express\, and release what has been held—without judgment\, without shame\, and at your own pace. This is not about forcing or performing\, but about listening to the body and honoring what is ready to be expressed. \nTogether\, we will move through a supported arc of awareness\, expression\, and integration\, so that what is released can become space—space for clarity\, softness\, and a deeper sense of self-trust. \nYou are welcome exactly as you are. \nAll of you belongs here.
URL:https://events.indyholistichub.com/event/sacred-rage-a-somatic-release-ritual/
LOCATION:The Playful Soul\, 1001 E 86th St\, Indianapolis\, Indianapolis\, Indiana\, 46240
ATTACH;FMTTYPE=image/jpeg:https://events.indyholistichub.com/wp-content/uploads/2026/03/IG-Sacred-Rage-Womb-Circle-w-Katye-Instagram-Post.jpg
END:VEVENT
BEGIN:VEVENT
DTSTART;TZID=America/Indiana/Indianapolis:20260425T160000
DTEND;TZID=America/Indiana/Indianapolis:20260425T170000
DTSTAMP:20260421T054524
CREATED:20250813T182958Z
LAST-MODIFIED:20251111T183745Z
UID:10009098-1777132800-1777136400@events.indyholistichub.com
SUMMARY:Sound Bath Journey
DESCRIPTION:Yoga On Purpose Harmonious Serenity: Sound Bath Journey with Tibetan and Crystal Singing Bowls \nJoin us for an immersive experience of deep relaxation and rejuvenation as we embark on a yogic sound bath journey. Guided by the gentle vibrations of Tibetan and crystal singing bowls\, this session offers a unique opportunity to harmonize the mind\, body\, and spirit. \nAs you settle into a comfortable position\, allow the soothing sounds to wash over you\, creating a sense of tranquility and inner peace. The rich tones and frequencies produced by the singing bowls resonate with the body’s energy centers\, promoting balance and alignment. \nWhether you’re seeking relief from daily pressures\, seeking clarity and insight\, or simply wishing to reconnect with your inner self\, this yogic sound bath offers a sanctuary for self-care and healing. Come experience the transformative power of sound and leave feeling refreshed\, renewed\, and harmoniously aligned. $33
URL:https://events.indyholistichub.com/event/sound-bath-journey-3/2026-04-25/
LOCATION:The Playful Soul\, 1001 E 86th St\, Indianapolis\, Indianapolis\, Indiana\, 46240
ATTACH;FMTTYPE=image/jpeg:https://events.indyholistichub.com/wp-content/uploads/2025/08/Jamie-Sound-Healing-8.5-x-11-in-2.jpg
END:VEVENT
BEGIN:VEVENT
DTSTART;TZID=America/Indiana/Indianapolis:20260426T110000
DTEND;TZID=America/Indiana/Indianapolis:20260426T114500
DTSTAMP:20260421T054524
CREATED:20250912T163929Z
LAST-MODIFIED:20260318T181131Z
UID:10009211-1777201200-1777203900@events.indyholistichub.com
SUMMARY:Meditation with Marissa
DESCRIPTION:Drop in for this month’s channeled meditation with Marissa! Each monthly meditation meets on the 4th Sunday and is uniquely channeled and attuned for the collective energies occurring on the planet and the energies of the group that attends. \nThis container is a space to connect with your breath and body while tuning into your connection with a higher power and yourself 🙏🏼 \nBring a journal\, comfy clothes\, and a crystal if you’d like to meditate with one! $20
URL:https://events.indyholistichub.com/event/meditation-with-marissa-2/2026-04-26/
LOCATION:The Playful Soul\, 1001 E 86th St\, Indianapolis\, Indianapolis\, Indiana\, 46240
ATTACH;FMTTYPE=image/jpeg:https://events.indyholistichub.com/wp-content/uploads/2025/09/Meditation-with-Marissa-Instagram-Post-9.jpg
END:VEVENT
BEGIN:VEVENT
DTSTART;TZID=America/Indiana/Indianapolis:20260426T160000
DTEND;TZID=America/Indiana/Indianapolis:20260426T173000
DTSTAMP:20260421T054524
CREATED:20260331T183335Z
LAST-MODIFIED:20260331T183347Z
UID:10009317-1777219200-1777224600@events.indyholistichub.com
SUMMARY:Sound Bath + Somatics Class for Women in Zionsville\, IN
DESCRIPTION:Ladies\, come join us for a relaxing soulful experience at the Limitless Studio in Zionsville\, IN on Sunday\, April 26th at 4pm. This class combines the soothing sounds of crystal singing bowls + gentle somatic practices to help you unwind and release tension…to open your heart…to balance your feminine + masculine energy…and to help you lead yourself through stress and challenges from a grounded state. Whether you’re looking to de-stress\, simply enjoy a moment of peace\, or embody deeper healing\, this class is perfect for all females. Don’t miss out on this unique opportunity to nourish your mind\, body\, and soul! This class is about 90 mins long and integrates mind-body healing\, conscious gentle stretching + movement\, guided meditation\, somatic stress release\, and sound healing. \nThis class is $45 for non-members and $35 for Limitless Studio members.
URL:https://events.indyholistichub.com/event/sound-bath-somatics-class-for-women-in-zionsville-in-3/
LOCATION:The Limitless Studio\, 4629 Northwestern Dr.\, Zionsville\, IN\, 46077\, United States
CATEGORIES:Classes
ATTACH;FMTTYPE=image/jpeg:https://events.indyholistichub.com/wp-content/uploads/2026/03/IMG_6833-1.jpg
ORGANIZER;CN="Jill Howell":MAILTO:jill@dancinginthemess.com
END:VEVENT
BEGIN:VEVENT
DTSTART;TZID=America/Indiana/Indianapolis:20260428T113000
DTEND;TZID=America/Indiana/Indianapolis:20260428T130000
DTSTAMP:20260421T054524
CREATED:20260220T191558Z
LAST-MODIFIED:20260220T191733Z
UID:10009265-1777375800-1777381200@events.indyholistichub.com
SUMMARY:Holistic Connection Lunch
DESCRIPTION:Connect with other holistic practitioners\, artisans\, and professionals across multiple modalities. Learn\, Grow\, Be Supported.\n\nJennifer Seffrin\, Founder of Indy Holistic Hub\, will lead us in meaningful connection time – bring your business cards and expanded hearts. You can experience:\n\nUpliftment – You are not alone. Receiving a boost of love and support impacts your energetic field. This is great check-in/reset time to be sure you are inviting in well aligned connections and clients.\nBiz ideas – Learning from each others experiences and input is a Win-Win!\nCollaborative synergies – Building genuine connections and understanding what others offer\, provides an environment for collaborations to come together.\nResource Share – Business tools\, processes\, and how-to’s to develop\, maintain and grow your business. Ask for what you are looking for.\n\nShine Your Light\, a.k.a. Share Who You Are – Tell us about you and pass around your brochures and cards.
URL:https://events.indyholistichub.com/event/holistic-connection-lunch/2026-04-28/
LOCATION:Another Broken Egg Cafe\, 5025 E 82nd St\, Indianapolis\, IN\, 46260\, United States
CATEGORIES:Holistic Hub Events
ATTACH;FMTTYPE=image/jpeg:https://events.indyholistichub.com/wp-content/uploads/2026/01/Screenshot-2026-01-16-at-1.29.06 PM.jpg
ORGANIZER;CN="Indy Holistic Hub":MAILTO:info@indyholistichub.com
END:VEVENT
BEGIN:VEVENT
DTSTART;TZID=America/Indiana/Indianapolis:20260428T190000
DTEND;TZID=America/Indiana/Indianapolis:20260428T200000
DTSTAMP:20260421T054524
CREATED:20240216T172902Z
LAST-MODIFIED:20240515T181241Z
UID:10004277-1777402800-1777406400@events.indyholistichub.com
SUMMARY:Bowspring Yoga with Samantha
DESCRIPTION:Bowspring yoga is a revolutionary\, yet natural\, alignment system that celebrates and encourages the natural curves of the spine and brings forth an animal like springiness in the body. The Bowspring alignment encourages the repatterning of fascia in order to return to a state of fluid dynamism\, and opposes postural patterns that lead to imbalance. Practicing this formula will increase your strength\, mobility\, proprioception\, balance\, mental acuity\, and open up spiritual channels. \nIn this class we will spend the hour moving through poses with the throat\, belly\, and pelvic floor open: as a result\, please be advised that this class can be PROFOUNDLY engaging and opening for the physical\, mental\, emotional\, and spiritual bodies. We will end the class in a relaxing assimilation. \n**Bowspring is healing for everyone\, however this class may be too much if you are currently experiencing certain movement restrictions. If you have concerns\, please attend an Intro to Bowspring Class\, arrive to class early to chat with Samantha\, or contact Samantha directly at info@thesamanthasimpson.com
URL:https://events.indyholistichub.com/event/bowspring-yoga-with-samantha/2026-04-28/
LOCATION:The Playful Soul\, 1001 E 86th St\, Indianapolis\, Indianapolis\, Indiana\, 46240
CATEGORIES:Classes
ATTACH;FMTTYPE=image/jpeg:https://events.indyholistichub.com/wp-content/uploads/2024/02/samantha.jpg
END:VEVENT
BEGIN:VEVENT
DTSTART;TZID=America/Indiana/Indianapolis:20260428T193000
DTEND;TZID=America/Indiana/Indianapolis:20260428T203000
DTSTAMP:20260421T054524
CREATED:20250416T195535Z
LAST-MODIFIED:20250929T171436Z
UID:10009029-1777404600-1777408200@events.indyholistichub.com
SUMMARY:Public Meditation for PEACE
DESCRIPTION:Get your weekly dose of Peace Practice every Tuesday evening at Prana Play in Carmel! \nThis is not your average meditation.\nJoin us for a playful practice as we experience the power of stillness.\nWhether you are new to meditation or have been practicing for years\, ALL are welcome.\nOur goals?\nLevel 1 – Help individuals create more inner peace\nLevel 2 – Support cooperation and the civility conversation in Carmel\nLevel 3 – Bless the Earth and do our part to promote global peace \nHosted by Prana Bar each and every Tuesday from 7:30pm-8:15pm.
URL:https://events.indyholistichub.com/event/public-meditation-for-peace/2026-04-28/
LOCATION:Prana Play Carmel\, 1019 3rd Ave. SW\, Carmel\, 46032\, United States
CATEGORIES:Meetup
ATTACH;FMTTYPE=image/png:https://events.indyholistichub.com/wp-content/uploads/2025/04/Meditation-for-Peace-Postcard-4-1.png
ORGANIZER;CN="Paula Lord":MAILTO:paula@gymrootsinc.com
END:VEVENT
BEGIN:VEVENT
DTSTART;TZID=America/Indiana/Indianapolis:20260429T103000
DTEND;TZID=America/Indiana/Indianapolis:20260429T114500
DTSTAMP:20260421T054524
CREATED:20240515T181830Z
LAST-MODIFIED:20241120T213057Z
UID:10005767-1777458600-1777463100@events.indyholistichub.com
SUMMARY:Yoga with Sherry
DESCRIPTION:Expect a beautiful heart-led class that begins with breath-work and intention. You will move through a series of poses that bring stillness and releases blocks while connecting with our breath and energy.  We will seal our practice with savasana\, meditation\, and set a new intention for the day. The pace of the class is based on the energy of the room~since we are all connected. (All levels are welcome)
URL:https://events.indyholistichub.com/event/yoga-with-sherry-2/2026-04-29/
LOCATION:The Playful Soul\, 1001 E 86th St\, Indianapolis\, Indianapolis\, Indiana\, 46240
CATEGORIES:Classes
ATTACH;FMTTYPE=image/jpeg:https://events.indyholistichub.com/wp-content/uploads/2024/05/yoga-with-sherry-instagram-post.jpg
END:VEVENT
END:VCALENDAR