BEGIN:VCALENDAR
VERSION:2.0
PRODID:-//Community Calendar of Holistic Happenings - ECPv6.11.0.1//NONSGML v1.0//EN
CALSCALE:GREGORIAN
METHOD:PUBLISH
X-WR-CALNAME:Community Calendar of Holistic Happenings
X-ORIGINAL-URL:https://events.indyholistichub.com
X-WR-CALDESC:Events for Community Calendar of Holistic Happenings
REFRESH-INTERVAL;VALUE=DURATION:PT1H
X-Robots-Tag:noindex
X-PUBLISHED-TTL:PT1H
BEGIN:VTIMEZONE
TZID:America/Indiana/Indianapolis
BEGIN:DAYLIGHT
TZOFFSETFROM:-0500
TZOFFSETTO:-0400
TZNAME:EDT
DTSTART:20250309T070000
END:DAYLIGHT
BEGIN:STANDARD
TZOFFSETFROM:-0400
TZOFFSETTO:-0500
TZNAME:EST
DTSTART:20251102T060000
END:STANDARD
END:VTIMEZONE
BEGIN:VEVENT
DTSTART;TZID=America/Indiana/Indianapolis:20251019T100000
DTEND;TZID=America/Indiana/Indianapolis:20251019T170000
DTSTAMP:20260419T121319
CREATED:20250917T214153Z
LAST-MODIFIED:20251008T182537Z
UID:10008969-1760868000-1760893200@events.indyholistichub.com
SUMMARY:The Purposeful Path: Vision Board Workshop Rooted in Numerology
DESCRIPTION:Create a vision board powered by numerology that aligns your desires with the energy of 2025 \nJoin us for an enlightening retreat where you’ll explore your personal desires through the powerful lens of numerology and the transformative energy of 2025. This immersive experience invites you to connect deeply with your life path and personal year numbers by creating a vision board that reflects your purpose and aspirations. \nSunday\, October 19 // 10 am – 5 pm\nDoor opens: 9:30am\nWorkshop: 10 – 12 pm* to 1 – 5 pm \n*There will be a 1-hour lunch break where participants are invited to pack a picnic lunch and each on the Balanced Soul porch or visit one of the many restaurants in Broad Ripple! \nInvestment: $155  \n\n\n\n\n\nClick here to register\n\n\n\n\n\nFacilitators: Jennifer Foley and Lynn Tisza \nSpace is limited to 10 participants. \nAll materials for your personalized vision board will be provided. Snacks\, drinks\, and coffee/tea will be available. Please dress comfortably. \nAbout the Retreat\nAt the heart of this retreat is the creation of your vision board—a tangible representation of your goals and desires. Drawing on the insights revealed by your life path and personal year numbers\, you’ll uncover themes and intentions that align with your unique journey. This process will help you clearly visualize what you hope to manifest in 2025. \nWe’ll explore the characteristics and life lessons associated with your numbers\, then guide you in curating images\, words\, and symbols that reflect your personal path. Whether you’re calling in new career opportunities\, relationships\, or inner growth\, your vision board will serve as a powerful compass for the year ahead. \nThroughout the afternoon\, we’ll dive into the significance of your life path number—an indicator of your innate strengths and challenges—and examine how it can guide your decisions and purpose. We’ll also work with your personal year number\, which highlights the themes and energies that will shape your 2025 experience. By understanding these numerical vibrations\, you’ll gain clarity around your desires and set meaningful intentions for the year to come. \nDesire will be a central theme that will be woven through our discussions and activities. We’ll explore what desire means to each participant and how it can lead us toward our highest potential. To support this journey\, we’ll work with the Garnett Crystal\, known for its ability to enhance passion\, creativity\, motivation\, and desire. You’ll learn how to use its energy to help manifest your goals and overcome personal obstacles. \nUsing the innovative techniques of Robert Moss\, we’ll engage in the Lightning Dreamwork process to access your subconscious and uncover creative insights. This experiential practice will guide and inspire the design of your vision board—and your renewed vision for 2025. \nThrough meditative practices and supportive group activities\, you’ll connect with your future self\, identify limiting beliefs\, and begin to release what’s holding you back from stepping into your full potential.
URL:https://events.indyholistichub.com/event/the-purposeful-path-vision-board-workshop-rooted-in-numerology/
LOCATION:Balanced Soul\, 6510 Cornell Avenue\, Suite A\, Indianapolis\, 46220\, United States
CATEGORIES:Retreat
ATTACH;FMTTYPE=image/jpeg:https://events.indyholistichub.com/wp-content/uploads/2025/09/The-Purposeful-Path-Instagram-Post-45.jpg
ORGANIZER;CN="Balanced Soul":MAILTO:jennifer@balancedsoulindy.com
END:VEVENT
END:VCALENDAR