BEGIN:VCALENDAR
VERSION:2.0
PRODID:-//Community Calendar of Holistic Happenings - ECPv6.11.0.1//NONSGML v1.0//EN
CALSCALE:GREGORIAN
METHOD:PUBLISH
X-ORIGINAL-URL:https://events.indyholistichub.com
X-WR-CALDESC:Events for Community Calendar of Holistic Happenings
REFRESH-INTERVAL;VALUE=DURATION:PT1H
X-Robots-Tag:noindex
X-PUBLISHED-TTL:PT1H
BEGIN:VTIMEZONE
TZID:America/Indiana/Indianapolis
BEGIN:DAYLIGHT
TZOFFSETFROM:-0500
TZOFFSETTO:-0400
TZNAME:EDT
DTSTART:20250309T070000
END:DAYLIGHT
BEGIN:STANDARD
TZOFFSETFROM:-0400
TZOFFSETTO:-0500
TZNAME:EST
DTSTART:20251102T060000
END:STANDARD
END:VTIMEZONE
BEGIN:VEVENT
DTSTART;TZID=America/Indiana/Indianapolis:20251123T150000
DTEND;TZID=America/Indiana/Indianapolis:20251123T170000
DTSTAMP:20260421T192710
CREATED:20250923T184356Z
LAST-MODIFIED:20250923T184356Z
UID:10008977-1763910000-1763917200@events.indyholistichub.com
SUMMARY:Language of Leaves: Tea + Readings
DESCRIPTION:Slow down with the simple rituals of tea. Kristin will guide you in blending herbs to create your own tea blend with care and intention\, encouraging reflection on the qualities each plant carries and the meaning they hold for you. Then\, Yale will introduce the art of tea leaf reading\, where you’ll learn the foundational skills to interpret the shapes and patterns left in the cup as tools for divination and self-reflection. Together\, we’ll create space to engage with tea as a practice of insight\, creativity\, and connection. All materials are provided. $33
URL:https://events.indyholistichub.com/event/language-of-leaves-tea-readings/
LOCATION:The Playful Soul\, 1001 E 86th St\, Indianapolis\, Indianapolis\, Indiana\, 46240
ATTACH;FMTTYPE=image/jpeg:https://events.indyholistichub.com/wp-content/uploads/2025/09/Language-of-Leaves-Tea-Readings-2.jpg
END:VEVENT
BEGIN:VEVENT
DTSTART;TZID=America/Indiana/Indianapolis:20251122T130000
DTEND;TZID=America/Indiana/Indianapolis:20251122T140000
DTSTAMP:20260421T192710
CREATED:20251009T211648Z
LAST-MODIFIED:20251009T211648Z
UID:10009082-1763816400-1763820000@events.indyholistichub.com
SUMMARY:Tap Into Calm
DESCRIPTION:If you are feeling a little anxious about the upcoming holiday hustle you’re not alone\, and there is a simple way to bring yourself back to calm. Join Stacia for a beginner-friendly class and learn the basics of Emotional Freedom Technique (EFT)\, also known as Tapping. This simple yet powerful practice helps ease anxiety\, release stress\, and reset your energy. Whether you’re navigating holiday overwhelm\, deepening your spiritual practice\, or just looking for another tool in your self-care toolbox\, this class offers a supportive\, heart-centered space to learn this practical tool that you can use anytime\, anywhere—no experience needed. Give your nervous system a little love\, and come tap it out with us! $35
URL:https://events.indyholistichub.com/event/tap-into-calm/
LOCATION:The Playful Soul\, 1001 E 86th St\, Indianapolis\, Indianapolis\, Indiana\, 46240
ATTACH;FMTTYPE=image/jpeg:https://events.indyholistichub.com/wp-content/uploads/2025/10/Tap-into-Calm-with-Stacia-Tapping-EFT.jpg
END:VEVENT
BEGIN:VEVENT
DTSTART;TZID=America/Indiana/Indianapolis:20251121T180000
DTEND;TZID=America/Indiana/Indianapolis:20251121T190000
DTSTAMP:20260421T192710
CREATED:20251014T182822Z
LAST-MODIFIED:20251014T182822Z
UID:10009084-1763748000-1763751600@events.indyholistichub.com
SUMMARY:Womb of Fire: Pele's Path of Transformation
DESCRIPTION:Join local Pelvic Floor Physical Therapist\, Reiki Master\, and Womb Health Practitioner-in-Training Katye Tuyo for a somatic womb clearing guided by Pele’s dance of destruction and creation. Through this embodied practice\, you will have the opportunity to release old stories through your body’s wisdom and awaken new land within\, using tools such as breath\, visualization\, movement\, and sound. \nThis gathering is for anyone who identifies as a woman\, including those who have had a hysterectomy or were born without a womb. $30
URL:https://events.indyholistichub.com/event/womb-of-fire-peles-path-of-transformation/
LOCATION:The Playful Soul\, 1001 E 86th St\, Indianapolis\, Indianapolis\, Indiana\, 46240
ATTACH;FMTTYPE=image/jpeg:https://events.indyholistichub.com/wp-content/uploads/2025/10/Womb-of-Fire-Katye.jpg
END:VEVENT
BEGIN:VEVENT
DTSTART;TZID=America/Indiana/Indianapolis:20251116T130000
DTEND;TZID=America/Indiana/Indianapolis:20251116T170000
DTSTAMP:20260421T192710
CREATED:20251009T211841Z
LAST-MODIFIED:20251009T211841Z
UID:10009083-1763298000-1763312400@events.indyholistichub.com
SUMMARY:Crystal Trunk Show
DESCRIPTION:Discover the magic of crystals and elevate the peace and harmony in your life! If you’re a crystal lover\, curious about their enchanting properties\, or looking for a special gift Lynn Tisza\, known as the “Crystal Whisperer\,” has the perfect crystal for you! She has a talent for sourcing beautiful\, high-quality specimens with healing energy and an intuitive knack for selecting stones destined to find the way to their perfect owners.
URL:https://events.indyholistichub.com/event/crystal-trunk-show/
LOCATION:The Playful Soul\, 1001 E 86th St\, Indianapolis\, Indianapolis\, Indiana\, 46240
ATTACH;FMTTYPE=image/jpeg:https://events.indyholistichub.com/wp-content/uploads/2025/10/Crystal-Trunk-Show-8.5-x-11-in.jpg
END:VEVENT
BEGIN:VEVENT
DTSTART;TZID=America/Indiana/Indianapolis:20251116T130000
DTEND;TZID=America/Indiana/Indianapolis:20251116T150000
DTSTAMP:20260421T192710
CREATED:20250912T180016Z
LAST-MODIFIED:20250912T180016Z
UID:10008964-1763298000-1763305200@events.indyholistichub.com
SUMMARY:Understanding the Zodiac
DESCRIPTION:Join astrologer Megan Hanna for an interactive afternoon designed to deepen your understanding of astrology. In this session\, you’ll explore the 12 zodiac signs and their archetypes\, uncover common misconceptions\, and gain a clearer understanding of yourself. You’ll discover the significance of your personal chart and receive valuable insights into the cosmic forces that influence your life\, providing you with a roadmap for growth and self-awareness. Let the magic of your inner universe unfold before your eyes. $44
URL:https://events.indyholistichub.com/event/understanding-the-zodiac-2/
LOCATION:The Playful Soul\, 1001 E 86th St\, Indianapolis\, Indianapolis\, Indiana\, 46240
ATTACH;FMTTYPE=image/jpeg:https://events.indyholistichub.com/wp-content/uploads/2025/09/Understanding-the-Zodiac-4.jpg
END:VEVENT
BEGIN:VEVENT
DTSTART;TZID=America/Indiana/Indianapolis:20251109T143000
DTEND;TZID=America/Indiana/Indianapolis:20251109T160000
DTSTAMP:20260421T192710
CREATED:20251009T195146Z
LAST-MODIFIED:20251009T195146Z
UID:10009081-1762698600-1762704000@events.indyholistichub.com
SUMMARY:Seeing\, Feeling\, & Working with Auras
DESCRIPTION:Explore the magic of your aura with the author of Understanding Auras\, Cassie Uhl. Discover what the aura or energy body is\, learn techniques to see\, feel\, and tune into it\, and explore exercises to determine your aura colors to understand the ideal energetic practices for nurturing your unique aura. $25 early bird ($35 day of)
URL:https://events.indyholistichub.com/event/seeing-feeling-working-with-auras/
LOCATION:The Playful Soul\, 1001 E 86th St\, Indianapolis\, Indianapolis\, Indiana\, 46240
ATTACH;FMTTYPE=image/jpeg:https://events.indyholistichub.com/wp-content/uploads/2025/10/Auras-Workshop-with-Cassie-Uhl-Promo.jpg
END:VEVENT
BEGIN:VEVENT
DTSTART;TZID=America/Indiana/Indianapolis:20251108T110000
DTEND;TZID=America/Indiana/Indianapolis:20251108T120000
DTSTAMP:20260421T192710
CREATED:20250923T183515Z
LAST-MODIFIED:20250923T183515Z
UID:10008974-1762599600-1762603200@events.indyholistichub.com
SUMMARY:Heart Healing: A Meditative Soulshop
DESCRIPTION:Join award-winning author\, Diana Ensign\, for this unique opportunity to experience heart healing in a sacred space. Ensign is the author of A Moment of Calm\, Heart Guide\, and Traveling Spirit\, among other books on transformative healing and mindful living. Her recent Peru travels with world renowned healers expanded her knowledge on energetic and vibrational healing. In this meditative workshop\, you will:\n\n\nLearn to connect more deeply to your heart\nDiscover simple tools for inner peace\nExplore your true essence within\n\nPlease bring a journal (Diana’s books will be available for purchase.)
URL:https://events.indyholistichub.com/event/heart-healing-a-meditative-soulshop/
LOCATION:The Playful Soul\, 1001 E 86th St\, Indianapolis\, Indianapolis\, Indiana\, 46240
ATTACH;FMTTYPE=image/jpeg:https://events.indyholistichub.com/wp-content/uploads/2025/09/Diana-Ensign-Heart-Healing-Meditation-8.5-x-11-in.jpg
END:VEVENT
BEGIN:VEVENT
DTSTART;TZID=America/Indiana/Indianapolis:20251107T184500
DTEND;TZID=America/Indiana/Indianapolis:20251107T194500
DTSTAMP:20260421T192710
CREATED:20250919T181543Z
LAST-MODIFIED:20250919T181543Z
UID:10008971-1762541100-1762544700@events.indyholistichub.com
SUMMARY:Samhain Celebration
DESCRIPTION:Join Marissa for a cozy and meaningful Samhain Ritual as we celebrate the harvest season and honor our ancestors.\nTogether\, we’ll gather in sacred community to: \n\nCreate a communal ancestor altar\nConnect with loved ones who have passed\nRelease what no longer serves through a fire ritual\nReflect and go inward through journal prompts\nCelebrate all that we’ve grown and cultivated this year.\n\nPlease bring a photo or small item that represents an ancestor\, loved one\, or cultural heritage for to place on the communal altar. Be sure to also bring a journal to connect inward and reflect. We will close the evening with a fire ritual outside where we will release old energies to create space for the new year ahead. $40
URL:https://events.indyholistichub.com/event/samhain-celebration/
LOCATION:The Playful Soul\, 1001 E 86th St\, Indianapolis\, Indianapolis\, Indiana\, 46240
ATTACH;FMTTYPE=image/jpeg:https://events.indyholistichub.com/wp-content/uploads/2025/09/Samhain-Ritual-Marissa-Flyer-1.jpg
END:VEVENT
BEGIN:VEVENT
DTSTART;TZID=America/Indiana/Indianapolis:20251106T183000
DTEND;TZID=America/Indiana/Indianapolis:20251106T203000
DTSTAMP:20260421T192710
CREATED:20250923T182427Z
LAST-MODIFIED:20250923T182427Z
UID:10008973-1762453800-1762461000@events.indyholistichub.com
SUMMARY:Full Beaver Moon Restorative Yoga + Shamanic Sound Healing
DESCRIPTION:November ushers in the Full Beaver Moon for during this time of year\, the industrious beavers are busy repairing their dens and taking shelter in their cozy\, well-stocked homes before the darker months arrive. Beavers are master architects and serve as a reminder that\, when we plan ahead for challenging times\, we can “stay high and dry” and better navigate the lean times. \nWhat areas of your life need to be repaired so that you\, too\, can journey easily through Life’s colder\, darker times? Join us at the Full Beaver Moon Restorative Yoga and Shamanic Sound Healing event and let the teachings of “Beaver Medicine” help you plan ahead. $35 (or $40 day of)
URL:https://events.indyholistichub.com/event/full-beaver-moon-restorative-yoga-shamanic-sound-healing-2/
LOCATION:The Playful Soul\, 1001 E 86th St\, Indianapolis\, Indianapolis\, Indiana\, 46240
ATTACH;FMTTYPE=image/jpeg:https://events.indyholistichub.com/wp-content/uploads/2025/09/Full-Beaver-Moon-Yoga-Shamanic-Sound-Healing-2.jpg
END:VEVENT
BEGIN:VEVENT
DTSTART;TZID=America/Indiana/Indianapolis:20251101T120000
DTEND;TZID=America/Indiana/Indianapolis:20251101T160000
DTSTAMP:20260421T192710
CREATED:20251009T171007Z
LAST-MODIFIED:20251009T171007Z
UID:10009058-1761998400-1762012800@events.indyholistichub.com
SUMMARY:First Saturday Bazaar
DESCRIPTION:The First Saturday Bazaar offers a wide array of local hand-made goods crafted by Indy’s finest artisans and the best intuitive vegan food around. Features jewelry\, artwork\, candles\, healthy baked goods\, elixirs\, potions\, and practitioner services that range from card or psychic readings and energy healing to iridology and numerology.  Free to attend! Contact The Playful Soul if interested in vending. \n1001 E. 86th Street\, Indianapolis
URL:https://events.indyholistichub.com/event/first-saturday-bazaar/
LOCATION:The Playful Soul\, 1001 E 86th St\, Indianapolis\, Indianapolis\, Indiana\, 46240
ATTACH;FMTTYPE=image/jpeg:https://events.indyholistichub.com/wp-content/uploads/2025/10/save-the-date-Bazaar-Instagram-Post-Real-Estate-Flyer-1.jpg
END:VEVENT
BEGIN:VEVENT
DTSTART;TZID=America/Indiana/Indianapolis:20251030T180000
DTEND;TZID=America/Indiana/Indianapolis:20251030T193000
DTSTAMP:20260421T192710
CREATED:20250912T175300Z
LAST-MODIFIED:20250912T175300Z
UID:10008963-1761847200-1761852600@events.indyholistichub.com
SUMMARY:Death Cafe
DESCRIPTION:Exploring the Mystery of Life\, Death\, and What Lies Beyond\n\nYou are warmly invited to gather in a circle of open-hearted conversation—where we explore death not as an end\, but as a sacred part of the human journey.This free gathering at The Playful Soul offers a safe and welcoming space to share your thoughts\, fears\, hopes\, and questions about death\, dying\, the afterlife\, and the soul’s journey—whatever that means to you. \nThere is no agenda\, no dogma\, and no attempt to provide answers—only the presence and deep listening of fellow travelers. \nWhat to Expect: \n\nA spiritually open and respectful space\nHeartfelt sharing and meaningful conversation\nNo preaching\, therapy\, or promotion—just presence\nA circle held by gentle facilitator Wendy Sulkoske to support flow and safety\n\nWhether you come from a spiritual tradition or walk your own path\, all are welcome. Come with curiosity\, come with questions\, or simply come to listen and reflect. \nFREE–All are welcome \n“To talk about death is to talk about life with more depth\, more gratitude.”
URL:https://events.indyholistichub.com/event/death-cafe/
LOCATION:The Playful Soul\, 1001 E 86th St\, Indianapolis\, Indianapolis\, Indiana\, 46240
ATTACH;FMTTYPE=image/jpeg:https://events.indyholistichub.com/wp-content/uploads/2025/09/Death-Cafe-FLYER-8.5-x-11-in.jpg
END:VEVENT
BEGIN:VEVENT
DTSTART;TZID=America/Indiana/Indianapolis:20251017T180000
DTEND;TZID=America/Indiana/Indianapolis:20251017T190000
DTSTAMP:20260421T192710
CREATED:20250912T171453Z
LAST-MODIFIED:20250912T171453Z
UID:10008960-1760724000-1760727600@events.indyholistichub.com
SUMMARY:Ovarian Fire Breathwork & Meditation
DESCRIPTION:Your ovaries house your creative energy potential – whether that be of new life or your next creative project or venture. Join this Breathwork and Meditation journey as you discover your ovarian energy\, balance your feminine and masculine energy when it comes to creation\, and envision your dreams coming to life. This class is for you if you are feeling disconnected to your ovaries and womb space\, you are feeling stagnant in your creative energy\, you are experiencing difficulties around ovulation or your follicular phase of your cycle\, you desire more balance in your feminine and masculine energies that live within us all\, or you simply crave time and space in stillness\, connection to your body\, and community.\n\nFacilitated by Katye Tuyo\, a pelvic floor physical therapist\, Reiki Master\, and Womb Health practitioner in training. Attendance by donation.
URL:https://events.indyholistichub.com/event/ovarian-fire-breathwork-meditation/
LOCATION:The Playful Soul\, 1001 E 86th St\, Indianapolis\, Indianapolis\, Indiana\, 46240
ATTACH;FMTTYPE=image/jpeg:https://events.indyholistichub.com/wp-content/uploads/2025/09/ovarian-fire-breathwork-and-meditation-Katye-1.jpg
END:VEVENT
BEGIN:VEVENT
DTSTART;TZID=America/Indiana/Indianapolis:20251009T183000
DTEND;TZID=America/Indiana/Indianapolis:20251009T203000
DTSTAMP:20260421T192710
CREATED:20250912T170454Z
LAST-MODIFIED:20250912T170454Z
UID:10008958-1760034600-1760041800@events.indyholistichub.com
SUMMARY:Full Harvest Supermoon Restorative Yoga + Shamanic Sound Healing
DESCRIPTION:This year’s first full moon of Autumn falls in early October\, making it the Harvest Moon. It is also this year’s first supermoon\, shedding even more light onto what we each are harvesting in our own Garden of Life. Consider the projects you have been cultivating in recent months and years and offer gratitude to all who have helped on your path. Just as the cornstalk’s supportive structure is not needed after harvest\, consider what no longer serves you and let it go in peace. \nIn an immersive evening of Full Harvest Supermoon Yoga and Shamanic Sound Healing experience\, join us in releasing what no longer serves our souls and celebrating the harvest of our good efforts. \n$35 (price increases to $40 day of event)
URL:https://events.indyholistichub.com/event/full-harvest-supermoon-restorative-yoga-shamanic-sound-healing/
LOCATION:The Playful Soul\, 1001 E 86th St\, Indianapolis\, Indianapolis\, Indiana\, 46240
ATTACH;FMTTYPE=image/jpeg:https://events.indyholistichub.com/wp-content/uploads/2025/09/2026-Full-Harvest-Moon-Yoga-Sound-Healing-t-8.5-×-11-in-2.jpg
END:VEVENT
END:VCALENDAR