BEGIN:VCALENDAR
VERSION:2.0
PRODID:-//Community Calendar of Holistic Happenings - ECPv6.11.0.1//NONSGML v1.0//EN
CALSCALE:GREGORIAN
METHOD:PUBLISH
X-WR-CALNAME:Community Calendar of Holistic Happenings
X-ORIGINAL-URL:https://events.indyholistichub.com
X-WR-CALDESC:Events for Community Calendar of Holistic Happenings
REFRESH-INTERVAL;VALUE=DURATION:PT1H
X-Robots-Tag:noindex
X-PUBLISHED-TTL:PT1H
BEGIN:VTIMEZONE
TZID:America/Indiana/Indianapolis
BEGIN:DAYLIGHT
TZOFFSETFROM:-0500
TZOFFSETTO:-0400
TZNAME:EDT
DTSTART:20260308T070000
END:DAYLIGHT
BEGIN:STANDARD
TZOFFSETFROM:-0400
TZOFFSETTO:-0500
TZNAME:EST
DTSTART:20261101T060000
END:STANDARD
END:VTIMEZONE
BEGIN:VEVENT
DTSTART;TZID=America/Indiana/Indianapolis:20260327T110000
DTEND;TZID=America/Indiana/Indianapolis:20260327T150000
DTSTAMP:20260421T115619
CREATED:20260310T181317Z
LAST-MODIFIED:20260310T181317Z
UID:10009295-1774609200-1774623600@events.indyholistichub.com
SUMMARY:Spring Into Wellness
DESCRIPTION:Welcome the season of renewal with a refreshing Spring Wellness Event designed to help you reconnect\, recharge\, and reset. As nature blooms\, join us for a thoughtfully curated experience focused on balance\, vitality\, and self-care. \nEnjoy gentle movement\, mindful practices\, nourishing refreshments\, and expert-led wellness sessions that support both body and mind. From stress relief and relaxation to energy-boosting rituals and holistic insights\, this event offers space to slow down\, breathe deeply\, and step into spring feeling renewed. \nWhether you’re beginning your wellness journey or deepening an existing practice\, this gathering is an invitation to embrace growth\, clarity\, and well-being—one mindful moment at a time.
URL:https://events.indyholistichub.com/event/spring-into-wellness/
LOCATION:Anchor Health Chiropractic\, 14300 Mundy Drive Suite 100\, Noblesville\, IN\, 46060\, United States
CATEGORIES:Fair
ATTACH;FMTTYPE=image/png:https://events.indyholistichub.com/wp-content/uploads/2026/03/Health-Wellness-Fair-Graphics-2.png
ORGANIZER;CN="Be Do Live Wellness":MAILTO:jay@bedolivewellness.com
END:VEVENT
END:VCALENDAR