BEGIN:VCALENDAR
VERSION:2.0
PRODID:-//Community Calendar of Holistic Happenings - ECPv6.11.0.1//NONSGML v1.0//EN
CALSCALE:GREGORIAN
METHOD:PUBLISH
X-ORIGINAL-URL:https://events.indyholistichub.com
X-WR-CALDESC:Events for Community Calendar of Holistic Happenings
REFRESH-INTERVAL;VALUE=DURATION:PT1H
X-Robots-Tag:noindex
X-PUBLISHED-TTL:PT1H
BEGIN:VTIMEZONE
TZID:America/Indiana/Indianapolis
BEGIN:DAYLIGHT
TZOFFSETFROM:-0500
TZOFFSETTO:-0400
TZNAME:EDT
DTSTART:20250309T070000
END:DAYLIGHT
BEGIN:STANDARD
TZOFFSETFROM:-0400
TZOFFSETTO:-0500
TZNAME:EST
DTSTART:20251102T060000
END:STANDARD
BEGIN:DAYLIGHT
TZOFFSETFROM:-0500
TZOFFSETTO:-0400
TZNAME:EDT
DTSTART:20260308T070000
END:DAYLIGHT
BEGIN:STANDARD
TZOFFSETFROM:-0400
TZOFFSETTO:-0500
TZNAME:EST
DTSTART:20261101T060000
END:STANDARD
END:VTIMEZONE
BEGIN:VEVENT
DTSTART;TZID=America/Indiana/Indianapolis:20260214T110000
DTEND;TZID=America/Indiana/Indianapolis:20260214T114500
DTSTAMP:20260423T063249
CREATED:20260114T002107Z
LAST-MODIFIED:20260114T002243Z
UID:10009229-1771066800-1771069500@events.indyholistichub.com
SUMMARY:Resonant Recharge in the Indianapolis Salt Cave
DESCRIPTION:Experience the relaxing resonant soundwaves of crystal singing bowls in the tranquil salt cave setting of the Indianapolis Salt Cave and Halotherapy Center.
URL:https://events.indyholistichub.com/event/resonant-recharge-in-the-indianapolis-salt-cave/2026-02-14/4/
LOCATION:Indianapolis Salt Cave\, 8899 Kent Ave.\, Indianapolis\, IN\, 46216\, United States
CATEGORIES:Classes
ATTACH;FMTTYPE=image/jpeg:https://events.indyholistichub.com/wp-content/uploads/2026/01/20250809_093810.jpg
ORGANIZER;CN="Resonant Recharge":MAILTO:tini@resonantrecharge.com
END:VEVENT
BEGIN:VEVENT
DTSTART;TZID=America/Indiana/Indianapolis:20251011T100000
DTEND;TZID=America/Indiana/Indianapolis:20251011T120000
DTSTAMP:20260423T063249
CREATED:20250903T182004Z
LAST-MODIFIED:20250903T182004Z
UID:10008951-1760176800-1760184000@events.indyholistichub.com
SUMMARY:Resonant Recharge in the Indianapolis Salt Cave
DESCRIPTION:Experience the relaxing resonant soundwaves of crystal singing bowls in the tranquil salt cave setting of the Indianapolis Salt Cave and Halotherapy Center. \nThese 45 minute sound sessions are available on Friday\, October 10th at 5PM\, as well as at 10AM and 11AM on Saturday\, October 11th. Space is limited and fills up quickly – claim your seat while you can!
URL:https://events.indyholistichub.com/event/resonant-recharge-in-the-indianapolis-salt-cave-2/2025-10-11/
LOCATION:Indianapolis Salt Cave\, 8899 Kent Ave.\, Indianapolis\, IN\, 46216\, United States
CATEGORIES:Classes
ATTACH;FMTTYPE=image/jpeg:https://events.indyholistichub.com/wp-content/uploads/2025/09/Copy-of-Copy-of-Soften-Soothe_20250903_140938_0000-1.jpg
ORGANIZER;CN="Resonant Recharge":MAILTO:tini@resonantrecharge.com
END:VEVENT
END:VCALENDAR