BEGIN:VCALENDAR
VERSION:2.0
PRODID:-//Community Calendar of Holistic Happenings - ECPv6.11.0.1//NONSGML v1.0//EN
CALSCALE:GREGORIAN
METHOD:PUBLISH
X-WR-CALNAME:Community Calendar of Holistic Happenings
X-ORIGINAL-URL:https://events.indyholistichub.com
X-WR-CALDESC:Events for Community Calendar of Holistic Happenings
REFRESH-INTERVAL;VALUE=DURATION:PT1H
X-Robots-Tag:noindex
X-PUBLISHED-TTL:PT1H
BEGIN:VTIMEZONE
TZID:America/Indiana/Indianapolis
BEGIN:DAYLIGHT
TZOFFSETFROM:-0500
TZOFFSETTO:-0400
TZNAME:EDT
DTSTART:20260308T070000
END:DAYLIGHT
BEGIN:STANDARD
TZOFFSETFROM:-0400
TZOFFSETTO:-0500
TZNAME:EST
DTSTART:20261101T060000
END:STANDARD
END:VTIMEZONE
BEGIN:VEVENT
DTSTART;TZID=America/Indiana/Indianapolis:20260501T190000
DTEND;TZID=America/Indiana/Indianapolis:20260501T201500
DTSTAMP:20260421T123631
CREATED:20260419T185119Z
LAST-MODIFIED:20260419T185123Z
UID:10009338-1777662000-1777666500@events.indyholistichub.com
SUMMARY:Co-Ed Outdoor Sound Bath + Somatics Class
DESCRIPTION:For all genders ages 12 and up (children who have done meditation and are able to rest without disturbing others)…come join us for a relaxing soulful experience at Southeastway Park on Friday\, May 1st at 7pm. This class combines the soothing sounds of crystal singing bowls\, outdoor nature sounds\, + gentle somatic practices to help you unwind and release tension…to open your heart…to balance your feminine + masculine energy…and to help you lead yourself through stress and challenges from a grounded state. \nWhether you’re looking to de-stress\, simply enjoy a moment of peace\, or embody deeper healing\, this class is perfect for all females. Don’t miss out on this unique opportunity to nourish your mind\, body\, and soul! This class is about 75 mins long and integrates mind-body healing\, conscious gentle stretching + movement\, guided meditation\, somatic stress release\, and sound healing.
URL:https://events.indyholistichub.com/event/co-ed-outdoor-sound-bath-somatics-class/
LOCATION:Southeastway Park\, 5624 S Carroll Rd\, Indianapolis\, IN\, 46163
CATEGORIES:Classes
ATTACH;FMTTYPE=image/jpeg:https://events.indyholistichub.com/wp-content/uploads/2026/04/Covers-73-1.jpg
ORGANIZER;CN="Jill Howell":MAILTO:jill@dancinginthemess.com
END:VEVENT
END:VCALENDAR