BEGIN:VCALENDAR
VERSION:2.0
PRODID:-//Community Calendar of Holistic Happenings - ECPv6.11.0.1//NONSGML v1.0//EN
CALSCALE:GREGORIAN
METHOD:PUBLISH
X-ORIGINAL-URL:https://events.indyholistichub.com
X-WR-CALDESC:Events for Community Calendar of Holistic Happenings
REFRESH-INTERVAL;VALUE=DURATION:PT1H
X-Robots-Tag:noindex
X-PUBLISHED-TTL:PT1H
BEGIN:VTIMEZONE
TZID:America/Indiana/Indianapolis
BEGIN:DAYLIGHT
TZOFFSETFROM:-0500
TZOFFSETTO:-0400
TZNAME:EDT
DTSTART:20250309T070000
END:DAYLIGHT
BEGIN:STANDARD
TZOFFSETFROM:-0400
TZOFFSETTO:-0500
TZNAME:EST
DTSTART:20251102T060000
END:STANDARD
END:VTIMEZONE
BEGIN:VEVENT
DTSTART;TZID=America/Indiana/Indianapolis:20251024T193000
DTEND;TZID=America/Indiana/Indianapolis:20251024T203000
DTSTAMP:20260421T130703
CREATED:20251007T220835Z
LAST-MODIFIED:20251007T220835Z
UID:10009056-1761334200-1761337800@events.indyholistichub.com
SUMMARY:Sound Bath + Somatics Class for Women
DESCRIPTION: Ladies\, come join us for a relaxing soulful experience at Stage 1 Dance Academy! This in-person class in Greenwood\, IN combines the soothing sounds of crystal singing bowls + gentle somatic practices to help you unwind and release tension…to open your heart…to soften into your feminine energy…and to help you lead yourself through stress and challenges from a grounded state.\n\nWhether you’re looking to de-stress\, simply enjoy a moment of peace\, or embody deeper healing\, this class is perfect for all females. Don’t miss out on this unique opportunity to nourish your mind\, body\, and soul!\n\nNote: This class starts at 7:30pm and is about 75 mins long and integrates mind-body healing\, conscious gentle stretching + movement\, guided meditation\, somatic stress release\, and sound healing.\n\nPLEASE ARRIVE 5-10 MINS EARLY. DOORS ARE LOCKED WHEN THE CLASS STARTS AT 7:30PM!\n\nBENEFITS OF THIS CLASS-soulfully connect with your body + authentic self-induce deep rest-improve sleep patterns-enhance creativity-realign your body and nervous system into a state of balance\, coherence\, and harmony-help you enter rest\, digest\, and heal mode-reduce pain-remove toxins-lowers blood pressure-regulate emotional states-enhance brain wave states-rediscover and access personal awareness-awaken mindfulness-improve immune function + digestion-relieve stress + anxiety-soften into safety\, security\, and stability\n\nRegister here: https://courses.dancinginthemess.com/sound-bath
URL:https://events.indyholistichub.com/event/sound-bath-somatics-class-for-women-2/
LOCATION:Stage 1 Dance Academy\, 740 Fry Rd. Ste. D\, Greenwood\, IN\, 46142\, United States
CATEGORIES:Classes
ATTACH;FMTTYPE=image/jpeg:https://events.indyholistichub.com/wp-content/uploads/2025/10/Covers-73.jpg
ORGANIZER;CN="Jill Howell":MAILTO:jill@dancinginthemess.com
END:VEVENT
END:VCALENDAR