BEGIN:VCALENDAR
VERSION:2.0
PRODID:-//Community Calendar of Holistic Happenings - ECPv6.11.0.1//NONSGML v1.0//EN
CALSCALE:GREGORIAN
METHOD:PUBLISH
X-WR-CALNAME:Community Calendar of Holistic Happenings
X-ORIGINAL-URL:https://events.indyholistichub.com
X-WR-CALDESC:Events for Community Calendar of Holistic Happenings
REFRESH-INTERVAL;VALUE=DURATION:PT1H
X-Robots-Tag:noindex
X-PUBLISHED-TTL:PT1H
BEGIN:VTIMEZONE
TZID:America/Indiana/Indianapolis
BEGIN:DAYLIGHT
TZOFFSETFROM:-0500
TZOFFSETTO:-0400
TZNAME:EDT
DTSTART:20250309T070000
END:DAYLIGHT
BEGIN:STANDARD
TZOFFSETFROM:-0400
TZOFFSETTO:-0500
TZNAME:EST
DTSTART:20251102T060000
END:STANDARD
BEGIN:DAYLIGHT
TZOFFSETFROM:-0500
TZOFFSETTO:-0400
TZNAME:EDT
DTSTART:20260308T070000
END:DAYLIGHT
BEGIN:STANDARD
TZOFFSETFROM:-0400
TZOFFSETTO:-0500
TZNAME:EST
DTSTART:20261101T060000
END:STANDARD
END:VTIMEZONE
BEGIN:VEVENT
DTSTART;TZID=America/Indiana/Indianapolis:20260419T173000
DTEND;TZID=America/Indiana/Indianapolis:20260419T190000
DTSTAMP:20260421T130726
CREATED:20260331T183034Z
LAST-MODIFIED:20260331T183106Z
UID:10009316-1776619800-1776625200@events.indyholistichub.com
SUMMARY:Sound Bath + Somatics Class for Women in Greenwood\, IN
DESCRIPTION:Ladies\, come join us for a relaxing soulful experience at Stillpoint Healing in Greenwood\, IN on Sunday\, April 19th at 5:30pm. This class combines the soothing sounds of crystal singing bowls + gentle somatic practices to help you unwind and release tension…to open your heart…to balance your feminine + masculine energy…and to help you lead yourself through stress and challenges from a grounded state. Whether you’re looking to de-stress\, simply enjoy a moment of peace\, or embody deeper healing\, this class is perfect for all females. Don’t miss out on this unique opportunity to nourish your mind\, body\, and soul! This class is about 75 mins long and integrates mind-body healing\, conscious gentle stretching + movement\, guided meditation\, somatic stress release\, and sound healing.
URL:https://events.indyholistichub.com/event/sound-bath-somatics-class-for-women-only-in-greenwood-in/
LOCATION:StillPoint Healing\, 622 N Madison Ave\, Greenwood\, IN\, 46142\, United States
CATEGORIES:Classes
ATTACH;FMTTYPE=image/jpeg:https://events.indyholistichub.com/wp-content/uploads/2026/03/IMG_6641.jpg
ORGANIZER;CN="Jill Howell":MAILTO:jill@dancinginthemess.com
END:VEVENT
BEGIN:VEVENT
DTSTART;TZID=America/Indiana/Indianapolis:20260410T190000
DTEND;TZID=America/Indiana/Indianapolis:20260410T203000
DTSTAMP:20260421T130726
CREATED:20260331T182723Z
LAST-MODIFIED:20260331T182742Z
UID:10009315-1775847600-1775853000@events.indyholistichub.com
SUMMARY:Co-Ed Sound Bath + Somatics Class in Greenwood\, IN
DESCRIPTION:Ladies AND GENTLEMEN\, come join us for a relaxing soulful experience at Stillpoint Healing in Greenwood\, IN on April 10th at 7pm. This class combines the soothing sounds of crystal singing bowls + gentle somatic practices to help you unwind and release tension…to open your heart…to balance your feminine + masculine energy…and to help you lead yourself through stress and challenges from a grounded state. Whether you’re looking to de-stress\, simply enjoy a moment of peace\, or embody deeper healing\, this class is perfect for all females. Don’t miss out on this unique opportunity to nourish your mind\, body\, and soul! This class is about 75 mins long and integrates mind-body healing\, conscious gentle stretching + movement\, guided meditation\, somatic stress release\, and sound healing.
URL:https://events.indyholistichub.com/event/co-ed-sound-bath-somatics-class-in-greenwood-in/
LOCATION:StillPoint Healing\, 622 N Madison Ave\, Greenwood\, IN\, 46142\, United States
CATEGORIES:Classes
ATTACH;FMTTYPE=image/jpeg:https://events.indyholistichub.com/wp-content/uploads/2026/03/IMG_6805-copy-2.jpg
ORGANIZER;CN="Jill Howell":MAILTO:jill@dancinginthemess.com
END:VEVENT
BEGIN:VEVENT
DTSTART;TZID=America/Indiana/Indianapolis:20260320T183000
DTEND;TZID=America/Indiana/Indianapolis:20260320T203000
DTSTAMP:20260421T130726
CREATED:20260219T112642Z
LAST-MODIFIED:20260219T112642Z
UID:10009256-1774031400-1774038600@events.indyholistichub.com
SUMMARY:Women's Spring Equinox Somatic Retreat- Rooted in Balance
DESCRIPTION:Ladies\, the Spring Equinox is a sacred pause between darkness + light—a moment of balance + renewal. Join us at Stillpoint Healing in Greenwood\, IN on March 20th at 6:30pm for a 2 hour somatic retreat to reconnect with your body + inner wisdom through cacao\, sound healing\, somatic movement\, self-reflection\, a splash of art\, + playful possibility. This women’s retreat is an invitation to reconnect with yourself—to listen inward\, soften your nervous system\, and open your heart to what longs to bloom. Come honor the dark\, ground into your body\, rest + recalibrate\, welcome the light\, and awaken to more possibility!
URL:https://events.indyholistichub.com/event/womens-spring-equinox-somatic-retreat-rooted-in-balance/
LOCATION:StillPoint Healing\, 622 N Madison Ave\, Greenwood\, IN\, 46142\, United States
CATEGORIES:Classes
ATTACH;FMTTYPE=image/jpeg:https://events.indyholistichub.com/wp-content/uploads/2026/02/Covers-2026-02-17T130153.406.jpg
ORGANIZER;CN="Jill Howell":MAILTO:jill@dancinginthemess.com
END:VEVENT
BEGIN:VEVENT
DTSTART;TZID=America/Indiana/Indianapolis:20260307T093000
DTEND;TZID=America/Indiana/Indianapolis:20260307T110000
DTSTAMP:20260421T130726
CREATED:20260219T110301Z
LAST-MODIFIED:20260219T110301Z
UID:10009254-1772875800-1772881200@events.indyholistichub.com
SUMMARY:Sound Bath + Somatics for Women
DESCRIPTION:Ladies\, come join us for a relaxing soulful experience at Stillpoint Healing in Greenwood\, IN on Saturday\, March 7th at 9:30am. This class combines the soothing sounds of crystal singing bowls + gentle somatic practices to help you unwind and release tension…to open your heart…to balance your feminine + masculine energy…and to help you lead yourself through stress and challenges from a grounded state. Whether you’re looking to de-stress\, simply enjoy a moment of peace\, or embody deeper healing\, this class is perfect for all females. Don’t miss out on this unique opportunity to nourish your mind\, body\, and soul! This class is about 75 mins long and integrates mind-body healing\, conscious gentle stretching + movement\, guided meditation\, somatic stress release\, and sound healing.
URL:https://events.indyholistichub.com/event/sound-bath-somatics-for-women/
LOCATION:StillPoint Healing\, 622 N Madison Ave\, Greenwood\, IN\, 46142\, United States
CATEGORIES:Classes
ATTACH;FMTTYPE=image/jpeg:https://events.indyholistichub.com/wp-content/uploads/2026/02/Covers-73.jpg
ORGANIZER;CN="Jill Howell":MAILTO:jill@dancinginthemess.com
END:VEVENT
BEGIN:VEVENT
DTSTART;TZID=America/Indiana/Indianapolis:20260227T183000
DTEND;TZID=America/Indiana/Indianapolis:20260227T200000
DTSTAMP:20260421T130726
CREATED:20260116T193229Z
LAST-MODIFIED:20260116T193317Z
UID:10009237-1772217000-1772222400@events.indyholistichub.com
SUMMARY:Sound Bath + Somatics CO-ED Class in Greenwood\, IN
DESCRIPTION:Ladies AND GENTLEMEN\, come join us for a relaxing soulful experience at Stillpoint Healing in Greenwood\, IN on January 27th at 6:30pm. This class combines the soothing sounds of crystal singing bowls + gentle somatic practices to help you unwind and release tension…to open your heart…to balance your feminine + masculine energy…and to help you lead yourself through stress and challenges from a grounded state. Whether you’re looking to de-stress\, simply enjoy a moment of peace\, or embody deeper healing\, this class is perfect for all females. Don’t miss out on this unique opportunity to nourish your mind\, body\, and soul! This class is about 75 mins long and integrates mind-body healing\, conscious gentle stretching + movement\, guided meditation\, somatic stress release\, and sound healing.
URL:https://events.indyholistichub.com/event/sound-bath-somatics-co-ed-class/
LOCATION:StillPoint Healing\, 622 N Madison Ave\, Greenwood\, IN\, 46142\, United States
CATEGORIES:Classes,Fair
ATTACH;FMTTYPE=image/jpeg:https://events.indyholistichub.com/wp-content/uploads/2026/01/Covers-73-1.jpg
ORGANIZER;CN="Jill Howell":MAILTO:jill@dancinginthemess.com
END:VEVENT
BEGIN:VEVENT
DTSTART;TZID=America/Indiana/Indianapolis:20260207T093000
DTEND;TZID=America/Indiana/Indianapolis:20260207T110000
DTSTAMP:20260421T130726
CREATED:20260116T192932Z
LAST-MODIFIED:20260116T193301Z
UID:10009235-1770456600-1770462000@events.indyholistichub.com
SUMMARY:Sound Bath + Somatics Class for Women in Greenwood\, IN
DESCRIPTION:Ladies\, come join us for a relaxing soulful experience at Stillpoint Healing in Greenwood\, IN on Feb. 7th at 9:30am. This class combines the soothing sounds of crystal singing bowls + gentle somatic practices to help you unwind and release tension…to open your heart…to soften into your feminine energy…and to help you lead yourself through stress and challenges from a grounded state. Whether you’re looking to de-stress\, simply enjoy a moment of peace\, or embody deeper healing\, this class is perfect for all females. Don’t miss out on this unique opportunity to nourish your mind\, body\, and soul! This class is about 75 mins long and integrates mind-body healing\, conscious gentle stretching + movement\, guided meditation\, somatic stress release\, and sound healing.
URL:https://events.indyholistichub.com/event/sound-bath-somatics-class-in-greenwood-in/
LOCATION:StillPoint Healing\, 622 N Madison Ave\, Greenwood\, IN\, 46142\, United States
CATEGORIES:Classes
ATTACH;FMTTYPE=image/jpeg:https://events.indyholistichub.com/wp-content/uploads/2026/01/Covers-73.jpg
ORGANIZER;CN="Jill Howell":MAILTO:jill@dancinginthemess.com
END:VEVENT
BEGIN:VEVENT
DTSTART;TZID=America/Indiana/Indianapolis:20260116T190000
DTEND;TZID=America/Indiana/Indianapolis:20260116T203000
DTSTAMP:20260421T130726
CREATED:20251218T201934Z
LAST-MODIFIED:20251218T201934Z
UID:10009213-1768590000-1768595400@events.indyholistichub.com
SUMMARY:Sound Bath + Somatics Class for Women in Greenwood\, IN
DESCRIPTION:Ladies\, come join us for a relaxing soulful experience at Stillpoint Healing in Greenwood\, IN on January 16th at 7pm. This class combines the soothing sounds of crystal singing bowls + gentle somatic practices to help you unwind and release tension…to open your heart…to soften into your feminine energy…and to help you lead yourself through stress and challenges from a grounded state. Whether you’re looking to de-stress\, simply enjoy a moment of peace\, or embody deeper healing\, this class is perfect for all females. Don’t miss out on this unique opportunity to nourish your mind\, body\, and soul! This class is about 75 mins long and integrates mind-body healing\, conscious gentle stretching + movement\, guided meditation\, somatic stress release\, and sound healing.
URL:https://events.indyholistichub.com/event/sound-bath-somatics-class-for-women-in-greenwood-in-2/
LOCATION:StillPoint Healing\, 622 N Madison Ave\, Greenwood\, IN\, 46142\, United States
CATEGORIES:Classes
ATTACH;FMTTYPE=image/jpeg:https://events.indyholistichub.com/wp-content/uploads/2025/12/Covers-73.jpg
ORGANIZER;CN="Jill Howell":MAILTO:jill@dancinginthemess.com
END:VEVENT
BEGIN:VEVENT
DTSTART;TZID=America/Indiana/Indianapolis:20260110T130000
DTEND;TZID=America/Indiana/Indianapolis:20260110T170000
DTSTAMP:20260421T130726
CREATED:20251218T192312Z
LAST-MODIFIED:20251218T192312Z
UID:10009212-1768050000-1768064400@events.indyholistichub.com
SUMMARY:New Year's Somatic Retreat for Women
DESCRIPTION:A 4-Hour Retreat to Release Stress\, Rewire Your Nervous System + Reclaim Confidence + Joy in 2026 \n{Get early bird pricing before Dec. 31st!} \n\nLadies\, step into the highest version of yourself during this heart felt somatic retreat + reclaim what your soul is longing for! \n  \nJoin other open-hearted women for this 4 hour sacred pause in Greenwood\, IN from 1-5pm on Jan. 10th to enter 2026 rooted in emotional safety\, security\, and stability. Let’s honor the suck\, release tension + stress stored in your body\, regulate your nervous system\, celebrate your wins\, envision + embody what you want more of in 2026\, and playfully expand your capacity to hold more of what you really long for! \n  \nCome lower your cortisol levels\, release stress\, rewire your nervous system\, and enter the new year of 2026 refreshed + focused!
URL:https://events.indyholistichub.com/event/new-years-somatic-retreat-for-women/
LOCATION:StillPoint Healing\, 622 N Madison Ave\, Greenwood\, IN\, 46142\, United States
CATEGORIES:Classes,Retreat
ATTACH;FMTTYPE=image/jpeg:https://events.indyholistichub.com/wp-content/uploads/2025/12/Covers-95.jpg
ORGANIZER;CN="Jill Howell":MAILTO:jill@dancinginthemess.com
END:VEVENT
BEGIN:VEVENT
DTSTART;TZID=America/Indiana/Indianapolis:20251220T090000
DTEND;TZID=America/Indiana/Indianapolis:20251220T103000
DTSTAMP:20260421T130726
CREATED:20251114T184825Z
LAST-MODIFIED:20251202T174903Z
UID:10009105-1766221200-1766226600@events.indyholistichub.com
SUMMARY:Sound Bath + Somatics Class for Women
DESCRIPTION:Ladies\, come join us for a relaxing soulful experience at Stillpoint Healing in Greenwood\, IN on December 20th at 9am. This class combines the soothing sounds of crystal singing bowls + gentle somatic practices to help you unwind and release tension…to open your heart…to soften into your feminine energy…and to help you lead yourself through stress and challenges from a grounded state. Whether you’re looking to de-stress\, simply enjoy a moment of peace\, or embody deeper healing\, this class is perfect for all females. Don’t miss out on this unique opportunity to nourish your mind\, body\, and soul! This class is about 75 mins long and integrates mind-body healing\, conscious gentle stretching + movement\, guided meditation\, somatic stress release\, and sound healing.\n\n\nPLEASE ARRIVE 5-10 MINS EARLY. DOORS ARE LOCKED WHEN THE CLASS STARTS!\n\n\nBENEFITS OF THIS CLASS-soulfully connect with your body + authentic self-induce deep rest-improve sleep patterns-enhance creativity-realign your body and nervous system into a state of balance\, coherence\, and harmony-help you enter rest\, digest\, and heal mode-reduce pain-remove toxins-lowers blood pressure-regulate emotional states-enhance brain wave states-rediscover and access personal awareness-awaken mindfulness-improve immune function + digestion-relieve stress + anxiety-soften into safety\, security\, and stability
URL:https://events.indyholistichub.com/event/sound-bath-somatics-class-for-women-in-greenwood-in/
LOCATION:StillPoint Healing\, 622 N Madison Ave\, Greenwood\, IN\, 46142\, United States
CATEGORIES:Classes
ATTACH;FMTTYPE=image/jpeg:https://events.indyholistichub.com/wp-content/uploads/2025/11/Covers-73-1.jpg
ORGANIZER;CN="Jill Howell":MAILTO:jill@dancinginthemess.com
END:VEVENT
BEGIN:VEVENT
DTSTART;TZID=America/Indiana/Indianapolis:20251121T190000
DTEND;TZID=America/Indiana/Indianapolis:20251121T203000
DTSTAMP:20260421T130726
CREATED:20251017T211909Z
LAST-MODIFIED:20251017T211909Z
UID:10009086-1763751600-1763757000@events.indyholistichub.com
SUMMARY:Sound Bath + Somatics Class for Women
DESCRIPTION:Ladies\, come join us for a relaxing soulful experience at StillPoint Healing! This in-person class in Greenwood\, IN combines the soothing sounds of crystal singing bowls + gentle somatic practices to help you unwind and release tension…to open your heart…to soften into your feminine energy…and to help you lead yourself through stress and challenges from a grounded state.\n\n\nWhether you’re looking to de-stress\, simply enjoy a moment of peace\, or embody deeper healing\, this class is perfect for all females. Don’t miss out on this unique opportunity to nourish your mind\, body\, and soul!\n\n\nNote: This class starts at 7:30pm and is about 75 mins long and integrates mind-body healing\, conscious gentle stretching + movement\, guided meditation\, somatic stress release\, and sound healing.\n\n\nBENEFITS OF THIS CLASS-soulfully connect with your body + authentic self-induce deep rest-improve sleep patterns-enhance creativity-realign your body and nervous system into a state of balance\, coherence\, and harmony-help you enter rest\, digest\, and heal mode-reduce pain-remove toxins-lowers blood pressure-regulate emotional states-enhance brain wave states-rediscover and access personal awareness-awaken mindfulness-improve immune function + digestion-relieve stress + anxiety-soften into safety\, security\, and stability
URL:https://events.indyholistichub.com/event/sound-bath-somatics-class-for-women/
LOCATION:StillPoint Healing\, 622 N Madison Ave\, Greenwood\, IN\, 46142\, United States
ATTACH;FMTTYPE=image/jpeg:https://events.indyholistichub.com/wp-content/uploads/2025/10/Covers-73-1.jpg
ORGANIZER;CN="Jill Howell":MAILTO:jill@dancinginthemess.com
END:VEVENT
END:VCALENDAR